BEGIN:VCALENDAR
VERSION:2.0
PRODID:-//Southwest Contemporary - ECPv6.15.13//NONSGML v1.0//EN
CALSCALE:GREGORIAN
METHOD:PUBLISH
X-WR-CALNAME:Southwest Contemporary
X-ORIGINAL-URL:https://southwestcontemporary.com
X-WR-CALDESC:Events for Southwest Contemporary
REFRESH-INTERVAL;VALUE=DURATION:PT1H
X-Robots-Tag:noindex
X-PUBLISHED-TTL:PT1H
BEGIN:VTIMEZONE
TZID:America/Denver
BEGIN:DAYLIGHT
TZOFFSETFROM:-0700
TZOFFSETTO:-0600
TZNAME:MDT
DTSTART:20250309T090000
END:DAYLIGHT
BEGIN:STANDARD
TZOFFSETFROM:-0600
TZOFFSETTO:-0700
TZNAME:MST
DTSTART:20251102T080000
END:STANDARD
BEGIN:DAYLIGHT
TZOFFSETFROM:-0700
TZOFFSETTO:-0600
TZNAME:MDT
DTSTART:20260308T090000
END:DAYLIGHT
BEGIN:STANDARD
TZOFFSETFROM:-0600
TZOFFSETTO:-0700
TZNAME:MST
DTSTART:20261101T080000
END:STANDARD
BEGIN:DAYLIGHT
TZOFFSETFROM:-0700
TZOFFSETTO:-0600
TZNAME:MDT
DTSTART:20270314T090000
END:DAYLIGHT
BEGIN:STANDARD
TZOFFSETFROM:-0600
TZOFFSETTO:-0700
TZNAME:MST
DTSTART:20271107T080000
END:STANDARD
END:VTIMEZONE
BEGIN:VEVENT
DTSTART;TZID=America/Denver:20260425T203000
DTEND;TZID=America/Denver:20260425T213000
DTSTAMP:20260420T082123
CREATED:20260414T182733Z
LAST-MODIFIED:20260414T182733Z
UID:10005717-1777149000-1777152600@southwestcontemporary.com
SUMMARY:Performance: Algorave at Taos Film Festival
DESCRIPTION:STEMarts Lab is bringing the first Algorave performance to New Mexico as part of the Taos Film Festival. Alexandra Cardenas will perform virtually from Berlin at the Hotel Willa on Saturday night 8:30–9:30pm on April 25th. Joining Alexandra in-person will be local VJ/ Artist MAGENTA. \nThe Algorave community is a global network of artists\, musicians\, and coders who write and perform algorithms live to generate music and visuals in real time. Rooted in open-source culture and experimentation\, it treats code as both instrument and performance\, inviting audiences into the process as it unfolds. \nNew Mexico art purveyors of all ages and disciplines are encouraged to take part in this unique and innovative creative expression that has captivated audiences all over the world. The high energy vibe promises to dazzle the senses and create curiosity in the wonder of blending digital art\, music\, and technology. \nEmail
URL:https://southwestcontemporary.com/event/performance-algorave-at-taos-film-festival/
LOCATION:The Gallery at Hotel Willa\, 233 Paseo Del Pueblo Sur\, Taos\, NM\, 87571\, United States
CATEGORIES:Performances
ATTACH;FMTTYPE=image/jpeg:https://southwestcontemporary.com/wp-content/uploads/2026/04/antoinettedyksman-9-scaled-e1776191221132.jpg
ORGANIZER;CN="STEMarts Lab":MAILTO:communications@stemarts.com
GEO:36.4029892;-105.5743259
X-APPLE-STRUCTURED-LOCATION;VALUE=URI;X-ADDRESS=The Gallery at Hotel Willa 233 Paseo Del Pueblo Sur Taos NM 87571 United States;X-APPLE-RADIUS=500;X-TITLE=233 Paseo Del Pueblo Sur:geo:-105.5743259,36.4029892
END:VEVENT
END:VCALENDAR