BEGIN:VCALENDAR
VERSION:2.0
PRODID:-//Southwest Contemporary - ECPv6.15.13//NONSGML v1.0//EN
CALSCALE:GREGORIAN
METHOD:PUBLISH
X-ORIGINAL-URL:https://southwestcontemporary.com
X-WR-CALDESC:Events for Southwest Contemporary
REFRESH-INTERVAL;VALUE=DURATION:PT1H
X-Robots-Tag:noindex
X-PUBLISHED-TTL:PT1H
BEGIN:VTIMEZONE
TZID:America/Denver
BEGIN:DAYLIGHT
TZOFFSETFROM:-0700
TZOFFSETTO:-0600
TZNAME:MDT
DTSTART:20250309T090000
END:DAYLIGHT
BEGIN:STANDARD
TZOFFSETFROM:-0600
TZOFFSETTO:-0700
TZNAME:MST
DTSTART:20251102T080000
END:STANDARD
BEGIN:DAYLIGHT
TZOFFSETFROM:-0700
TZOFFSETTO:-0600
TZNAME:MDT
DTSTART:20260308T090000
END:DAYLIGHT
BEGIN:STANDARD
TZOFFSETFROM:-0600
TZOFFSETTO:-0700
TZNAME:MST
DTSTART:20261101T080000
END:STANDARD
BEGIN:DAYLIGHT
TZOFFSETFROM:-0700
TZOFFSETTO:-0600
TZNAME:MDT
DTSTART:20270314T090000
END:DAYLIGHT
BEGIN:STANDARD
TZOFFSETFROM:-0600
TZOFFSETTO:-0700
TZNAME:MST
DTSTART:20271107T080000
END:STANDARD
END:VTIMEZONE
BEGIN:VEVENT
DTSTART;VALUE=DATE:20260411
DTEND;VALUE=DATE:20260517
DTSTAMP:20260421T051617
CREATED:20260420T190654Z
LAST-MODIFIED:20260420T190654Z
UID:10005747-1775865600-1778975999@southwestcontemporary.com
SUMMARY:Exhibition Opening: Baseman and Mills | Selected Works at Studio light | space
DESCRIPTION:Studio light | space presents selected works by Marc Baseman and Wes Mills\, artists whose practices have developed in conversation since their arrival in Taos in 1991. Both have sustained careers of considerable scope. This exhibition focuses on the particular intensity of their drawing practice. \nBaseman’s compositions\, many measuring just over three inches on each side\, achieve their power through precision of means. Working at miniature scale\, he manipulates negative space and layered horizons to create depth that rewards sustained attention. Mills brings parallel rigor to his investigations of geometric abstraction\, balancing systematic structure with the warmth of individual mark-making.\nBoth artists have chosen concentration over expansion\, intimacy over dominance.For each\, drawing functions as a method of inquiry. Constraint generates meaning. Reduction clarifies form. \nThe drawings gathered here are products of time. Decades of looking and making cohere in works that demand careful consideration. In an era that privileges speed and scale\, these works offer an alternative: evidence of what happens when artists commit fully to the surface before them with rigor and care. \nEmail
URL:https://southwestcontemporary.com/event/exhibition-opening-baseman-and-mills-selected-works-at-studio-light-space/
LOCATION:studio light | space\, 307 S Convent Ave\, Tucson\, AZ\, 85701\, United States
CATEGORIES:Exhibition Openings
ATTACH;FMTTYPE=image/png:https://southwestcontemporary.com/wp-content/uploads/2026/04/westgallerybaseman-Mills-e1776711926260.png
GEO:32.2168507;-110.9719335
X-APPLE-STRUCTURED-LOCATION;VALUE=URI;X-ADDRESS=studio light | space 307 S Convent Ave Tucson AZ 85701 United States;X-APPLE-RADIUS=500;X-TITLE=307 S Convent Ave:geo:-110.9719335,32.2168507
END:VEVENT
END:VCALENDAR