BEGIN:VCALENDAR
VERSION:2.0
PRODID:-//Southwest Contemporary - ECPv6.15.13//NONSGML v1.0//EN
CALSCALE:GREGORIAN
METHOD:PUBLISH
X-WR-CALNAME:Southwest Contemporary
X-ORIGINAL-URL:https://southwestcontemporary.com
X-WR-CALDESC:Events for Southwest Contemporary
REFRESH-INTERVAL;VALUE=DURATION:PT1H
X-Robots-Tag:noindex
X-PUBLISHED-TTL:PT1H
BEGIN:VTIMEZONE
TZID:America/Denver
BEGIN:DAYLIGHT
TZOFFSETFROM:-0700
TZOFFSETTO:-0600
TZNAME:MDT
DTSTART:20250309T090000
END:DAYLIGHT
BEGIN:STANDARD
TZOFFSETFROM:-0600
TZOFFSETTO:-0700
TZNAME:MST
DTSTART:20251102T080000
END:STANDARD
BEGIN:DAYLIGHT
TZOFFSETFROM:-0700
TZOFFSETTO:-0600
TZNAME:MDT
DTSTART:20260308T090000
END:DAYLIGHT
BEGIN:STANDARD
TZOFFSETFROM:-0600
TZOFFSETTO:-0700
TZNAME:MST
DTSTART:20261101T080000
END:STANDARD
BEGIN:DAYLIGHT
TZOFFSETFROM:-0700
TZOFFSETTO:-0600
TZNAME:MDT
DTSTART:20270314T090000
END:DAYLIGHT
BEGIN:STANDARD
TZOFFSETFROM:-0600
TZOFFSETTO:-0700
TZNAME:MST
DTSTART:20271107T080000
END:STANDARD
END:VTIMEZONE
BEGIN:VEVENT
DTSTART;TZID=America/Denver:20260201T180000
DTEND;TZID=America/Denver:20260201T210000
DTSTAMP:20260422T062625
CREATED:20260129T012831Z
LAST-MODIFIED:20260129T013237Z
UID:10005243-1769968800-1769979600@southwestcontemporary.com
SUMMARY:Concert: Covenhoven with Audra Rodgers
DESCRIPTION:Covenhoven with special guest Audra Rodgers live at Salon Sage in Taos. \nQuietly forging his own path through the crowded indie folk landscape of 2025\, Joel Van Horne (AKA Covenhoven) released his fifth album The Color of the Dark to glimmering reviews and embarked on an extensive tour schedule that took him all over the U.S. and Canada.  Funding the album with the help of 250 of his loyal fans and self-releasing it in April of 2025\, Denver’s Westword called it a “masterpiece album of lyrical excellence.”  He worked with producer/engineers Dave Wilton (Gregory Alan Isakov\, Nathaniel Rateliff\, A Boy and His Kite\, etc.) and Brian Joseph (Bon Iver\, Sufjan Stevens\, etc.) to record 10 new songs. Then during his tours through the spring and summer\, he re-recorded another version of the album in its entirety… calling it Field Notes… made entirely outdoors\, finding make-shift “studios” in stone alcoves and forest hollows in places like Joshua Tree\, Big Sur\, Banff and beyond… he set up a single microphone and let the local birds\, wind\, water\, and other sounds of nature take part in the performances.  Then\, as if two full albums in a year wasn’t enough\, a new single Aeroplane dropped a few months ago that shows Joel dipping his toes into the Americana and folk-rock pools of his heroes. \nEmail
URL:https://southwestcontemporary.com/event/covenhoven-with-audra-rodgers/
LOCATION:Salon Sage\, 104 Dona Luz St.\, Taos\, NM
CATEGORIES:Concerts
ATTACH;FMTTYPE=image/jpeg:https://southwestcontemporary.com/wp-content/uploads/2026/01/Europe-Promo-Image-2026-1-2-e1769650105111.jpg
ORGANIZER;CN="Covenhoven":MAILTO:management@covenhoven.com
GEO:36.4069581;-105.5760439
X-APPLE-STRUCTURED-LOCATION;VALUE=URI;X-ADDRESS=Salon Sage 104 Dona Luz St. Taos NM;X-APPLE-RADIUS=500;X-TITLE=104 Dona Luz St.:geo:-105.5760439,36.4069581
END:VEVENT
END:VCALENDAR