BEGIN:VCALENDAR
VERSION:2.0
PRODID:-//Southwest Contemporary - ECPv6.15.13//NONSGML v1.0//EN
CALSCALE:GREGORIAN
METHOD:PUBLISH
X-WR-CALNAME:Southwest Contemporary
X-ORIGINAL-URL:https://southwestcontemporary.com
X-WR-CALDESC:Events for Southwest Contemporary
REFRESH-INTERVAL;VALUE=DURATION:PT1H
X-Robots-Tag:noindex
X-PUBLISHED-TTL:PT1H
BEGIN:VTIMEZONE
TZID:America/Denver
BEGIN:DAYLIGHT
TZOFFSETFROM:-0700
TZOFFSETTO:-0600
TZNAME:MDT
DTSTART:20250309T090000
END:DAYLIGHT
BEGIN:STANDARD
TZOFFSETFROM:-0600
TZOFFSETTO:-0700
TZNAME:MST
DTSTART:20251102T080000
END:STANDARD
BEGIN:DAYLIGHT
TZOFFSETFROM:-0700
TZOFFSETTO:-0600
TZNAME:MDT
DTSTART:20260308T090000
END:DAYLIGHT
BEGIN:STANDARD
TZOFFSETFROM:-0600
TZOFFSETTO:-0700
TZNAME:MST
DTSTART:20261101T080000
END:STANDARD
BEGIN:DAYLIGHT
TZOFFSETFROM:-0700
TZOFFSETTO:-0600
TZNAME:MDT
DTSTART:20270314T090000
END:DAYLIGHT
BEGIN:STANDARD
TZOFFSETFROM:-0600
TZOFFSETTO:-0700
TZNAME:MST
DTSTART:20271107T080000
END:STANDARD
END:VTIMEZONE
BEGIN:VEVENT
DTSTART;TZID=America/Denver:20260506T180000
DTEND;TZID=America/Denver:20260506T200000
DTSTAMP:20260421T091413
CREATED:20260420T185256Z
LAST-MODIFIED:20260420T185256Z
UID:10005749-1778090400-1778097600@southwestcontemporary.com
SUMMARY:Performance: हवा तुम\, घुल जाना\, खो जाना\, मगर मिल जाना [Oh wind (if you must)\, dissolve\,  wander (get lost)\, but be found (find me)]
DESCRIPTION:A noise and movement-based performance exploring teachings of wind\, and the process of anti-colonial\, embodied and communal meaning-making outside in a field. \nONE NIGHT ONLY PERFORMANCE: May 6th at 6:15 pm in the habitat field\nARTIST TALK: May 8th at 3:00 pm in the conference room\nLOCATION: Open Space Visitors Center\, 6500 Coors Blvd NW \nperformance in collaboration with हवा havaa (Wind)\, Coyote Willow\, Aiko Jio\, Kelly Feng\, Armando de-la Torre\, Benjamin Lachelt\, Chuck Tucker \nsculpture on view until dissolution \ncontact: sachikz@unm.edu \nsachika.studio \nEmail
URL:https://southwestcontemporary.com/event/performance-%e0%a4%b9%e0%a4%b5%e0%a4%be-%e0%a4%a4%e0%a5%81%e0%a4%ae-%e0%a4%98%e0%a5%81%e0%a4%b2-%e0%a4%9c%e0%a4%be%e0%a4%a8%e0%a4%be-%e0%a4%96%e0%a5%8b-%e0%a4%9c%e0%a4%be%e0%a4%a8/
LOCATION:Open Space Visitors Center\, 6500 Coors Blvd NW\, Albuquerque\, 87120
CATEGORIES:Exhibition Openings,Performances
ATTACH;FMTTYPE=image/jpeg:https://southwestcontemporary.com/wp-content/uploads/2026/04/Sachika_postercompressed-e1776711156923.jpeg
GEO:35.1651492;-106.6732992
X-APPLE-STRUCTURED-LOCATION;VALUE=URI;X-ADDRESS=DESCRIPTION:A noise and movement-based performance exploring teachings of wind and the process of anti-colonial embodied and communal meaning-making outside in a field. \nONE NIGHT ONLY PERFORMANCE: May 6th at 6:15 pm in the habitat field\nARTIST TALK: May 8th at 3:00 pm in the conference room\n Open Space Visitors Center 6500 Coors Blvd NW \nperformance in collaboration with हवा havaa (Wind) Coyote Willow Aiko Jio Kelly Feng Armando de-la Torre Benjamin Lachelt Chuck Tucker \nsculpture on view until dissolution \ncontact: sachikz@unm.edu \nsachika.studio \nEmail;X-APPLE-RADIUS=500;X-TITLE=6500 Coors Blvd NW:geo:-106.6732992,35.1651492
END:VEVENT
END:VCALENDAR