BEGIN:VCALENDAR
VERSION:2.0
PRODID:-//Southwest Contemporary - ECPv6.15.13//NONSGML v1.0//EN
CALSCALE:GREGORIAN
METHOD:PUBLISH
X-WR-CALNAME:Southwest Contemporary
X-ORIGINAL-URL:https://southwestcontemporary.com
X-WR-CALDESC:Events for Southwest Contemporary
REFRESH-INTERVAL;VALUE=DURATION:PT1H
X-Robots-Tag:noindex
X-PUBLISHED-TTL:PT1H
BEGIN:VTIMEZONE
TZID:America/Denver
BEGIN:DAYLIGHT
TZOFFSETFROM:-0700
TZOFFSETTO:-0600
TZNAME:MDT
DTSTART:20250309T090000
END:DAYLIGHT
BEGIN:STANDARD
TZOFFSETFROM:-0600
TZOFFSETTO:-0700
TZNAME:MST
DTSTART:20251102T080000
END:STANDARD
BEGIN:DAYLIGHT
TZOFFSETFROM:-0700
TZOFFSETTO:-0600
TZNAME:MDT
DTSTART:20260308T090000
END:DAYLIGHT
BEGIN:STANDARD
TZOFFSETFROM:-0600
TZOFFSETTO:-0700
TZNAME:MST
DTSTART:20261101T080000
END:STANDARD
BEGIN:DAYLIGHT
TZOFFSETFROM:-0700
TZOFFSETTO:-0600
TZNAME:MDT
DTSTART:20270314T090000
END:DAYLIGHT
BEGIN:STANDARD
TZOFFSETFROM:-0600
TZOFFSETTO:-0700
TZNAME:MST
DTSTART:20271107T080000
END:STANDARD
END:VTIMEZONE
BEGIN:VEVENT
DTSTART;TZID=America/Denver:20260403T170000
DTEND;TZID=America/Denver:20260403T190000
DTSTAMP:20260422T040444
CREATED:20260324T142025Z
LAST-MODIFIED:20260324T142949Z
UID:10005635-1775235600-1775242800@southwestcontemporary.com
SUMMARY:Opening Reception: Viewing Nature
DESCRIPTION:The first weekend in April will include interactive art and an open studio environment\, presenting work by Gabe Farley and Linda L. Chappell\, who focus on the environment. Stop in during weekend hours to meet the artists\, participate\, and view a range of sculptures\, paintings\, and letterpress prints. \nFor more information\, please reach out to infomergeart@gmail.com \nEmail
URL:https://southwestcontemporary.com/event/opening-reception-viewing-nature/
LOCATION:MERGE art community space\, 302 N. Bullard St.\, Silver City\, NM\, 88061\, United States
CATEGORIES:Exhibition Openings,Receptions
ATTACH;FMTTYPE=image/jpeg:https://southwestcontemporary.com/wp-content/uploads/2026/03/G.farley.detail.jpg
GEO:32.7705469;-108.2762013
X-APPLE-STRUCTURED-LOCATION;VALUE=URI;X-ADDRESS=MERGE art community space 302 N. Bullard St. Silver City NM 88061 United States;X-APPLE-RADIUS=500;X-TITLE=302 N. Bullard St.:geo:-108.2762013,32.7705469
END:VEVENT
END:VCALENDAR