BEGIN:VCALENDAR
VERSION:2.0
PRODID:-//Southwest Contemporary - ECPv6.15.13//NONSGML v1.0//EN
CALSCALE:GREGORIAN
METHOD:PUBLISH
X-WR-CALNAME:Southwest Contemporary
X-ORIGINAL-URL:https://southwestcontemporary.com
X-WR-CALDESC:Events for Southwest Contemporary
REFRESH-INTERVAL;VALUE=DURATION:PT1H
X-Robots-Tag:noindex
X-PUBLISHED-TTL:PT1H
BEGIN:VTIMEZONE
TZID:America/Denver
BEGIN:DAYLIGHT
TZOFFSETFROM:-0700
TZOFFSETTO:-0600
TZNAME:MDT
DTSTART:20250309T090000
END:DAYLIGHT
BEGIN:STANDARD
TZOFFSETFROM:-0600
TZOFFSETTO:-0700
TZNAME:MST
DTSTART:20251102T080000
END:STANDARD
BEGIN:DAYLIGHT
TZOFFSETFROM:-0700
TZOFFSETTO:-0600
TZNAME:MDT
DTSTART:20260308T090000
END:DAYLIGHT
BEGIN:STANDARD
TZOFFSETFROM:-0600
TZOFFSETTO:-0700
TZNAME:MST
DTSTART:20261101T080000
END:STANDARD
BEGIN:DAYLIGHT
TZOFFSETFROM:-0700
TZOFFSETTO:-0600
TZNAME:MDT
DTSTART:20270314T090000
END:DAYLIGHT
BEGIN:STANDARD
TZOFFSETFROM:-0600
TZOFFSETTO:-0700
TZNAME:MST
DTSTART:20271107T080000
END:STANDARD
END:VTIMEZONE
BEGIN:VEVENT
DTSTART;TZID=America/Denver:20260306T170000
DTEND;TZID=America/Denver:20260306T190000
DTSTAMP:20260419T070711
CREATED:20260217T155025Z
LAST-MODIFIED:20260217T155025Z
UID:10005473-1772816400-1772823600@southwestcontemporary.com
SUMMARY:Exhibition Opening: Bagatelles by Mattosse
DESCRIPTION:Public Reception: Friday\, March 6\, 5 – 7 pm \nArtist’s Q & A: Sunday March 22\, 3 pm \nBagatelles\, a painting and drawing exhibition by Silver City artist\, Mattoose\, opens on Thursday\, March 5. \nExcerpts by the artist:\n– For me the act of painting is a challenge. I do not set out to create a specific image or message from the start; I never know where I’m going. Rather\, the act of painting creates the painting and its idea. And\, if the challenge is good\, then the image just presents itself\, it’s a gift!\n-I aim for my work to transpose one’s attention and wonder to certain transcendental ideas; ideas that lie dormant in the depth of our objective consciousness.\n– I want my painting to feel as if it came instantly. So that\, in end\, there’s no idea to be interpreted\, rather a thing to be experienced.\n-At its best\, my work comes inexplicably and without method. \nExhibition Dates: March 5 – 28. \nGallery Hours: Thursday 11- 4\, Friday and Saturday 11-5\, Sunday 11- 3 and by appointment \nEmail
URL:https://southwestcontemporary.com/event/exhibition-opening-bagatelles-by-mattosse/
LOCATION:Light Art Space\, 209 West Broadway St\, Silver City\, NM\, 88061\, United States
CATEGORIES:Exhibition Openings
ATTACH;FMTTYPE=image/jpeg:https://southwestcontemporary.com/wp-content/uploads/2026/02/Mattoose_SR_1.jpg
GEO:32.7696165;-108.2776428
X-APPLE-STRUCTURED-LOCATION;VALUE=URI;X-ADDRESS=Light Art Space 209 West Broadway St Silver City NM 88061 United States;X-APPLE-RADIUS=500;X-TITLE=209 West Broadway St:geo:-108.2776428,32.7696165
END:VEVENT
BEGIN:VEVENT
DTSTART;TZID=America/Denver:20260208T150000
DTEND;TZID=America/Denver:20260208T163000
DTSTAMP:20260419T070711
CREATED:20260204T180822Z
LAST-MODIFIED:20260204T180822Z
UID:10005341-1770562800-1770568200@southwestcontemporary.com
SUMMARY:Mac Schweitzer: Illustrated talk by Ann Hedlund
DESCRIPTION:Mac Schweitzer\, a mid-20th-century painter of wildlife and other scenes\, earned the reputation as “the feminists’ answer to Charlie Russell\,” Enter Mac’s world through the southwestern photographs of Larry Ollivier.\nCelebrate Mac’s illustrated biography by Ann Hedlund and get your copy signed by the author. \nIllustrated talk by Ann Hedlund on Sunday\, Feb. 8\, 2026\, 3 – 4:30 pm in the studio at Light Art Space. \nEmail
URL:https://southwestcontemporary.com/event/mac-schweitzer-illustrated-talk-by-ann-hedlund/
LOCATION:Light Art Space\, 209 West Broadway St\, Silver City\, NM\, 88061\, United States
CATEGORIES:Talks/Lectures
ATTACH;FMTTYPE=image/jpeg:https://southwestcontemporary.com/wp-content/uploads/2026/02/Mac-Schweitzer-1954-HopiHerder-7x9-litho-AH-reduced-e1770228471932.jpg
GEO:32.7696165;-108.2776428
X-APPLE-STRUCTURED-LOCATION;VALUE=URI;X-ADDRESS=Light Art Space 209 West Broadway St Silver City NM 88061 United States;X-APPLE-RADIUS=500;X-TITLE=209 West Broadway St:geo:-108.2776428,32.7696165
END:VEVENT
END:VCALENDAR