BEGIN:VCALENDAR
VERSION:2.0
PRODID:-//Southwest Contemporary - ECPv6.15.13//NONSGML v1.0//EN
CALSCALE:GREGORIAN
METHOD:PUBLISH
X-ORIGINAL-URL:https://southwestcontemporary.com
X-WR-CALDESC:Events for Southwest Contemporary
REFRESH-INTERVAL;VALUE=DURATION:PT1H
X-Robots-Tag:noindex
X-PUBLISHED-TTL:PT1H
BEGIN:VTIMEZONE
TZID:America/Denver
BEGIN:DAYLIGHT
TZOFFSETFROM:-0700
TZOFFSETTO:-0600
TZNAME:MDT
DTSTART:20250309T090000
END:DAYLIGHT
BEGIN:STANDARD
TZOFFSETFROM:-0600
TZOFFSETTO:-0700
TZNAME:MST
DTSTART:20251102T080000
END:STANDARD
BEGIN:DAYLIGHT
TZOFFSETFROM:-0700
TZOFFSETTO:-0600
TZNAME:MDT
DTSTART:20260308T090000
END:DAYLIGHT
BEGIN:STANDARD
TZOFFSETFROM:-0600
TZOFFSETTO:-0700
TZNAME:MST
DTSTART:20261101T080000
END:STANDARD
BEGIN:DAYLIGHT
TZOFFSETFROM:-0700
TZOFFSETTO:-0600
TZNAME:MDT
DTSTART:20270314T090000
END:DAYLIGHT
BEGIN:STANDARD
TZOFFSETFROM:-0600
TZOFFSETTO:-0700
TZNAME:MST
DTSTART:20271107T080000
END:STANDARD
END:VTIMEZONE
BEGIN:VEVENT
DTSTART;TZID=America/Denver:20260313T160000
DTEND;TZID=America/Denver:20260313T180000
DTSTAMP:20260419T070736
CREATED:20260305T191450Z
LAST-MODIFIED:20260305T191450Z
UID:10005558-1773417600-1773424800@southwestcontemporary.com
SUMMARY:Exhibition Opening\, Paige Pierson: Guadalupe Street Feature
DESCRIPTION:March 13–26 \nBlue Rain Gallery presents a special feature of new works by Paige Pierson. Inspired by the landscapes\, architecture\, and deep history of northern New Mexico\, Pierson’s paintings explore the layered relationship between place\, memory\, and imagination. Through atmospheric compositions and subtle geometry\, her work reflects the enduring spirit of the region she calls home. \nSoft Opening Friday\, March 13th from 4-6pm \nEmail
URL:https://southwestcontemporary.com/event/exhibition-opening-paige-pierson-guadalupe-street-feature/
LOCATION:Blue Rain Gallery\, 544 S Guadalupe St\, Santa Fe\, NM\, 87501\, United States
CATEGORIES:Exhibition Openings
ATTACH;FMTTYPE=image/jpeg:https://southwestcontemporary.com/wp-content/uploads/2026/03/Paige-Pierson-Titian-Canyon-Oil-on-canvas-24h-x-36w-scaled-e1772738067844.jpg
GEO:35.6823684;-105.9482938
X-APPLE-STRUCTURED-LOCATION;VALUE=URI;X-ADDRESS=Blue Rain Gallery 544 S Guadalupe St Santa Fe NM 87501 United States;X-APPLE-RADIUS=500;X-TITLE=544 S Guadalupe St:geo:-105.9482938,35.6823684
END:VEVENT
BEGIN:VEVENT
DTSTART;TZID=America/Denver:20260213T160000
DTEND;TZID=America/Denver:20260213T180000
DTSTAMP:20260419T070736
CREATED:20260204T171649Z
LAST-MODIFIED:20260204T171649Z
UID:10005360-1770998400-1771005600@southwestcontemporary.com
SUMMARY:Guadalupe Street Feature: Thomas Breeze Marcus
DESCRIPTION:February 13 – 26\, 2026 (Soft Opening: February 13\, 4 – 6 PM) \nBlue Rain Gallery presents a Guadalupe Street Feature with Thomas Breeze Marcus\, a dynamic contemporary artist whose work fuses vibrant color\, graphic line\, and cultural heritage. Marcus’s art\, rooted in his Native Southwest background and street art origins\, invites viewers into richly patterned compositions that bridge tradition and innovation. Experience this compelling showcase in Santa Fe’s artistic core. \nEmail
URL:https://southwestcontemporary.com/event/guadalupe-street-feature-thomas-breeze-marcus/
LOCATION:Blue Rain Gallery\, 544 S Guadalupe St\, Santa Fe\, NM\, 87501\, United States
CATEGORIES:Exhibition Openings
ATTACH;FMTTYPE=image/jpeg:https://southwestcontemporary.com/wp-content/uploads/2026/02/breezeimage0-scaled-e1770225392522.jpeg
GEO:35.6823684;-105.9482938
X-APPLE-STRUCTURED-LOCATION;VALUE=URI;X-ADDRESS=Blue Rain Gallery 544 S Guadalupe St Santa Fe NM 87501 United States;X-APPLE-RADIUS=500;X-TITLE=544 S Guadalupe St:geo:-105.9482938,35.6823684
END:VEVENT
BEGIN:VEVENT
DTSTART;TZID=America/Denver:20260130T170000
DTEND;TZID=America/Denver:20260130T190000
DTSTAMP:20260419T070736
CREATED:20251231T211510Z
LAST-MODIFIED:20251231T211510Z
UID:10005221-1769792400-1769799600@southwestcontemporary.com
SUMMARY:Opening: New Paintings: 66 and Beyond
DESCRIPTION:January 30–February 12\, 2026 • Blue Rain Gallery\, Santa Fe \nCelebrate the imaginative new work of Tony De Luz in his solo exhibition 66 and Beyond. Drawing on decades of experience as a painter\, illustrator\, and designer\, De Luz captures the spirit of Americana with vibrant scenes of neon signs\, vintage cars\, road culture\, and evocative Southwestern imagery. With a warm\, dynamic palette and meticulous eye for detail\, his 66 and Beyond series invites viewers on a visual journey that bridges nostalgia and the open road. Join us for the opening reception on Friday\, January 30th\, 5–7 pm\, and experience De Luz’s rich creative vision at Blue Rain Gallery. \nEmail
URL:https://southwestcontemporary.com/event/opening-new-paintings-66-and-beyond/
LOCATION:Blue Rain Gallery\, 544 S Guadalupe St\, Santa Fe\, NM\, 87501\, United States
CATEGORIES:Exhibition Openings
ATTACH;FMTTYPE=image/jpeg:https://southwestcontemporary.com/wp-content/uploads/2025/12/Tony-De-Luz-West-Acrylic-on-canvas-30x40-1-scaled-e1767215695919.jpg
ORGANIZER;CN="Blue Rain Gallery":MAILTO:info@blueraingallery.com
GEO:35.6823684;-105.9482938
X-APPLE-STRUCTURED-LOCATION;VALUE=URI;X-ADDRESS=Blue Rain Gallery 544 S Guadalupe St Santa Fe NM 87501 United States;X-APPLE-RADIUS=500;X-TITLE=544 S Guadalupe St:geo:-105.9482938,35.6823684
END:VEVENT
END:VCALENDAR