BEGIN:VCALENDAR
VERSION:2.0
PRODID:-//Southwest Contemporary - ECPv6.15.13//NONSGML v1.0//EN
CALSCALE:GREGORIAN
METHOD:PUBLISH
X-WR-CALNAME:Southwest Contemporary
X-ORIGINAL-URL:https://southwestcontemporary.com
X-WR-CALDESC:Events for Southwest Contemporary
REFRESH-INTERVAL;VALUE=DURATION:PT1H
X-Robots-Tag:noindex
X-PUBLISHED-TTL:PT1H
BEGIN:VTIMEZONE
TZID:America/Denver
BEGIN:DAYLIGHT
TZOFFSETFROM:-0700
TZOFFSETTO:-0600
TZNAME:MDT
DTSTART:20250309T090000
END:DAYLIGHT
BEGIN:STANDARD
TZOFFSETFROM:-0600
TZOFFSETTO:-0700
TZNAME:MST
DTSTART:20251102T080000
END:STANDARD
BEGIN:DAYLIGHT
TZOFFSETFROM:-0700
TZOFFSETTO:-0600
TZNAME:MDT
DTSTART:20260308T090000
END:DAYLIGHT
BEGIN:STANDARD
TZOFFSETFROM:-0600
TZOFFSETTO:-0700
TZNAME:MST
DTSTART:20261101T080000
END:STANDARD
BEGIN:DAYLIGHT
TZOFFSETFROM:-0700
TZOFFSETTO:-0600
TZNAME:MDT
DTSTART:20270314T090000
END:DAYLIGHT
BEGIN:STANDARD
TZOFFSETFROM:-0600
TZOFFSETTO:-0700
TZNAME:MST
DTSTART:20271107T080000
END:STANDARD
END:VTIMEZONE
BEGIN:VEVENT
DTSTART;TZID=America/Denver:20260421T193000
DTEND;TZID=America/Denver:20260421T213000
DTSTAMP:20260421T095120
CREATED:20260420T184142Z
LAST-MODIFIED:20260420T184142Z
UID:10005752-1776799800-1776807000@southwestcontemporary.com
SUMMARY:Performance: NMSU Wind Symphony: Hope and Peace
DESCRIPTION:On Tuesday\, April 21\, the NMSU Wind Symphony will present its last concert of the season\, “Hope and Peace\,” featuring international trumpet player Jens Lindemann as a soloist on two pieces. This performance will start at 7:30 p.m. at the Atkinson Recital Hall on the NMSU campus and is free and open to the public. \nThe concert will center on themes of celebration\, hope\, loss and peace. The program includes pieces by Joan Tower\, Morten Lauridsen\, Jay Chattaway\, Michael Markowski and Peter Meechan. Meechan will also be present at the performance. \nEmail
URL:https://southwestcontemporary.com/event/performance-nmsu-wind-symphony-hope-and-peace/
LOCATION:Atkinson Recital Hall\, 1075 N. Horseshoe St.\, Las Cruces\, 88003
CATEGORIES:Concerts,Performances
ATTACH;FMTTYPE=image/png:https://southwestcontemporary.com/wp-content/uploads/2026/04/Screenshot-2026-04-19-at-12.36.31-AM.png
GEO:32.2831483;-106.7549993
X-APPLE-STRUCTURED-LOCATION;VALUE=URI;X-ADDRESS=Atkinson Recital Hall 1075 N. Horseshoe St. Las Cruces 88003;X-APPLE-RADIUS=500;X-TITLE=1075 N. Horseshoe St.:geo:-106.7549993,32.2831483
END:VEVENT
END:VCALENDAR