BEGIN:VCALENDAR
VERSION:2.0
PRODID:-//Southwest Contemporary - ECPv6.15.13//NONSGML v1.0//EN
CALSCALE:GREGORIAN
METHOD:PUBLISH
X-WR-CALNAME:Southwest Contemporary
X-ORIGINAL-URL:https://southwestcontemporary.com
X-WR-CALDESC:Events for Southwest Contemporary
REFRESH-INTERVAL;VALUE=DURATION:PT1H
X-Robots-Tag:noindex
X-PUBLISHED-TTL:PT1H
BEGIN:VTIMEZONE
TZID:America/Denver
BEGIN:DAYLIGHT
TZOFFSETFROM:-0700
TZOFFSETTO:-0600
TZNAME:MDT
DTSTART:20250309T090000
END:DAYLIGHT
BEGIN:STANDARD
TZOFFSETFROM:-0600
TZOFFSETTO:-0700
TZNAME:MST
DTSTART:20251102T080000
END:STANDARD
BEGIN:DAYLIGHT
TZOFFSETFROM:-0700
TZOFFSETTO:-0600
TZNAME:MDT
DTSTART:20260308T090000
END:DAYLIGHT
BEGIN:STANDARD
TZOFFSETFROM:-0600
TZOFFSETTO:-0700
TZNAME:MST
DTSTART:20261101T080000
END:STANDARD
BEGIN:DAYLIGHT
TZOFFSETFROM:-0700
TZOFFSETTO:-0600
TZNAME:MDT
DTSTART:20270314T090000
END:DAYLIGHT
BEGIN:STANDARD
TZOFFSETFROM:-0600
TZOFFSETTO:-0700
TZNAME:MST
DTSTART:20271107T080000
END:STANDARD
END:VTIMEZONE
BEGIN:VEVENT
DTSTART;TZID=America/Denver:20260415T180000
DTEND;TZID=America/Denver:20260415T210000
DTSTAMP:20260420T081528
CREATED:20260414T183728Z
LAST-MODIFIED:20260414T183728Z
UID:10005715-1776276000-1776286800@southwestcontemporary.com
SUMMARY:Talks/Lectures: Night of Ideas
DESCRIPTION:We are delighted to present the 2026 edition of Night of Ideas\, a global event initiated by the French Embassy and Villa Albertine in 2005\, now hosted in major cities across the U.S. \nIn collaboration with MSU Denver’s Humanities Center and The Denver Project for Humanistic Inquiry\, this year’s event will explore the theme of “Paving the Way”\, for the next generation\, for new voices\, and for science that serves humanity. This edition will bring together thinkers\, scientists\, scholars\, community advocates\, and artists for discussion\, food\, and wine (provided). \nJoin us for a night of exploration\, reflection\, and conversation! \nTopics include:\nYouth and Emerging Voices\nInspiring Figures and New Solutions \nEmail
URL:https://southwestcontemporary.com/event/talks-lectures-night-of-ideas/
LOCATION:RedLine Contemporary Art Center\, 2350 Arapahoe St\, Denver\, CO\, 80205\, United States
CATEGORIES:Talks/Lectures
ATTACH;FMTTYPE=image/png:https://southwestcontemporary.com/wp-content/uploads/2026/04/Screenshot-2026-04-10-at-3.13.06-PM-e1776191753483.png
ORGANIZER;CN="Alliance Fran%C3%A7aise de Denver":MAILTO:pmccrystal@redlineart.org
GEO:39.7547613;-104.9862566
X-APPLE-STRUCTURED-LOCATION;VALUE=URI;X-ADDRESS=RedLine Contemporary Art Center 2350 Arapahoe St Denver CO 80205 United States;X-APPLE-RADIUS=500;X-TITLE=2350 Arapahoe St:geo:-104.9862566,39.7547613
END:VEVENT
END:VCALENDAR