BEGIN:VCALENDAR
VERSION:2.0
PRODID:-//Southwest Contemporary - ECPv6.15.13//NONSGML v1.0//EN
CALSCALE:GREGORIAN
METHOD:PUBLISH
X-WR-CALNAME:Southwest Contemporary
X-ORIGINAL-URL:https://southwestcontemporary.com
X-WR-CALDESC:Events for Southwest Contemporary
REFRESH-INTERVAL;VALUE=DURATION:PT1H
X-Robots-Tag:noindex
X-PUBLISHED-TTL:PT1H
BEGIN:VTIMEZONE
TZID:America/Denver
BEGIN:DAYLIGHT
TZOFFSETFROM:-0700
TZOFFSETTO:-0600
TZNAME:MDT
DTSTART:20250309T090000
END:DAYLIGHT
BEGIN:STANDARD
TZOFFSETFROM:-0600
TZOFFSETTO:-0700
TZNAME:MST
DTSTART:20251102T080000
END:STANDARD
BEGIN:DAYLIGHT
TZOFFSETFROM:-0700
TZOFFSETTO:-0600
TZNAME:MDT
DTSTART:20260308T090000
END:DAYLIGHT
BEGIN:STANDARD
TZOFFSETFROM:-0600
TZOFFSETTO:-0700
TZNAME:MST
DTSTART:20261101T080000
END:STANDARD
BEGIN:DAYLIGHT
TZOFFSETFROM:-0700
TZOFFSETTO:-0600
TZNAME:MDT
DTSTART:20270314T090000
END:DAYLIGHT
BEGIN:STANDARD
TZOFFSETFROM:-0600
TZOFFSETTO:-0700
TZNAME:MST
DTSTART:20271107T080000
END:STANDARD
END:VTIMEZONE
BEGIN:VEVENT
DTSTART;TZID=America/Denver:20260409T170000
DTEND;TZID=America/Denver:20260423T200000
DTSTAMP:20260421T084051
CREATED:20260318T172158Z
LAST-MODIFIED:20260318T172158Z
UID:10005586-1775754000-1776974400@southwestcontemporary.com
SUMMARY:Opening Reception: PHANTOM LIMB
DESCRIPTION:Harman-Parrish Atelier is proud to present Phantom Limb\, an exhibition of sculpture and works on paper by Dallas artists Tabatha Trolli and Xxavier Edward Carter. On view from April 9\, 2026 through April 23\, 2026\, the exhibition brings together two dynamic bodies of expressive work united by a shared inquiry into the human body and the natural world. \nThe exhibition’s title and works evoke a simultaneous familiarity and distance—to the body\, to nature\, to form—expressed through material\, color\, and abstraction. Cycles of loss\, gain\, estrangement\, intimacy\, manufacture\, and regeneration converge in these works\, inviting viewers into a space where the physical and the phantom are held in careful tension.
URL:https://southwestcontemporary.com/event/opening-reception-phantom-limb/
LOCATION:Harman-Parrish Atelier\, 824 Exposition Ave\, Suite 8\, Dallas\, TX\, 75226\, United States
CATEGORIES:Exhibition Openings
ATTACH;FMTTYPE=image/jpeg:https://southwestcontemporary.com/wp-content/uploads/2026/03/Phantom-Limb-for-Glasstire.jpg
ORGANIZER;CN="Goldfish Dreams":MAILTO:xxavierismyname@gmail.com
GEO:32.7829637;-96.7673527
X-APPLE-STRUCTURED-LOCATION;VALUE=URI;X-ADDRESS=Harman-Parrish Atelier 824 Exposition Ave Suite 8 Dallas TX 75226 United States;X-APPLE-RADIUS=500;X-TITLE=824 Exposition Ave\, Suite 8:geo:-96.7673527,32.7829637
END:VEVENT
BEGIN:VEVENT
DTSTART;TZID=America/Denver:20260423T190000
DTEND;TZID=America/Denver:20260423T200000
DTSTAMP:20260421T084051
CREATED:20260225T230404Z
LAST-MODIFIED:20260225T230549Z
UID:10005517-1776970800-1776974400@southwestcontemporary.com
SUMMARY:Opening Reception\, HOST: Laura Lit
DESCRIPTION:Come celebrate the opening of HOST: Laura Lit\, the first solo museum exhibition and debut outdoor installation by the Austin-based artist. \nEncounter Lit’s Impossible Beings\, a constellation of recent work alongside newly commissioned outdoor sculptures sited around Laguna Gloria’s Driscoll Villa. Stroll the lakeside grounds\, take in the breathtaking sunset views\, and experience the artist’s vivid large-scale polymorphic forms immersed in nature. \nThe evening includes the rare opportunity to hear directly from the artist and curators. Plus\, enjoy refreshments and an ambient sound performance by EscPod as the sun sets—a perfect convergence of art\, nature\, and music.
URL:https://southwestcontemporary.com/event/opening-reception-host-laura-lit/
LOCATION:The Contemporary Austin – Laguna Gloria\, West 35th Street\, Austin\, Texas\, 78703\, United States
CATEGORIES:Exhibition Openings
ATTACH;FMTTYPE=image/jpeg:https://southwestcontemporary.com/wp-content/uploads/2026/02/48_0518.ContemporaryATX.MHH_.Laguna-Gloria.20240627.3790.Photo_Rebekah_Flake-scaled-e1772060594487.jpg
GEO:30.3121063;-97.7742514
X-APPLE-STRUCTURED-LOCATION;VALUE=URI;X-ADDRESS=The Contemporary Austin – Laguna Gloria West 35th Street Austin Texas 78703 United States;X-APPLE-RADIUS=500;X-TITLE=West 35th Street:geo:-97.7742514,30.3121063
END:VEVENT
BEGIN:VEVENT
DTSTART;TZID=America/Denver:20260502T170000
DTEND;TZID=America/Denver:20260502T200000
DTSTAMP:20260421T084051
CREATED:20260414T165714Z
LAST-MODIFIED:20260414T165714Z
UID:10005733-1777741200-1777752000@southwestcontemporary.com
SUMMARY:Exhibition Opening: Poetics of the Mundane
DESCRIPTION:Archway Gallery presents Poetics of the Mundane\, featuring new paintings and collages by Silvia PintoSouza and ceramic works and sculptures by guest artist Jeff Forster\, on view May 2–June 4\, 2026. Join the opening reception Saturday\, May 2\, from 5 to 8 p.m.\, with artist talk at 6:30 p.m. \nArchway Gallery artist\, Silvia PintoSouza\, and Department Head of Ceramics at The Glassell School of Art\, Jeff Forster\, are focusing their dual exhibit on the transitory nature of life and the scenes and objects that fire their imagination\, capturing both a sense of permanence and transition through their artistic media. \nThis compelling dual exhibition explores the fleeting nature of everyday life\, transforming ordinary objects and overlooked materials into works that balance permanence and change. PintoSouza elevates familiar subjects through layered\, translucent acrylics\, simplifying form and color to create luminous\, abstract compositions rich with depth and nuance. Working in intimate formats\, she brings precision and quiet intensity to each piece. \nForster reimagines discarded materials—drawing from agricultural and industrial remnants—to create sculptural forms that highlight texture\, process\, and reinvention. His environmentally conscious approach reveals beauty in what is often ignored\, offering a powerful reflection on memory\, transformation\, and the poetry found in the everyday.
URL:https://southwestcontemporary.com/event/exhibition-opening-poetics-of-the-mundane/
LOCATION:Archway Gallery\, 2305 Dunlavy\, Houston\, TX\, 77006\, United States
CATEGORIES:Exhibition Openings,Talks/Lectures
ATTACH;FMTTYPE=image/jpeg:https://southwestcontemporary.com/wp-content/uploads/2026/04/SPS_WhiteFields_24x24-e1776185812917.jpg
GEO:29.7454582;-95.4018496
X-APPLE-STRUCTURED-LOCATION;VALUE=URI;X-ADDRESS=Archway Gallery 2305 Dunlavy Houston TX 77006 United States;X-APPLE-RADIUS=500;X-TITLE=2305 Dunlavy:geo:-95.4018496,29.7454582
END:VEVENT
BEGIN:VEVENT
DTSTART;TZID=America/Denver:20260503T140000
DTEND;TZID=America/Denver:20260503T153000
DTSTAMP:20260421T084051
CREATED:20260414T173130Z
LAST-MODIFIED:20260414T173246Z
UID:10005727-1777816800-1777822200@southwestcontemporary.com
SUMMARY:Artist Talk: Seeing Double
DESCRIPTION:Join the Georgetown Art Center in welcoming artists Denise Elliott Jones and Debbie Carroll for an in-depth discussion about their Seeing Double exhibit. This is a free event taking place during normal business hours and is open to all ages. \n“Seeing Double—Two Views of Texas\, presents a unique vision of Texas by Debbie Carroll and Denise Elliott Jones. Works will focus on the seven regions of Texas: Big Bend\, Gulf Coast\, Hill Country\, Panhandle\, Piney Woods\, Prairies and Lakes\, and South Texas Plains. Each artist will use her unique style to capture the feel and spirit of each region. Basing their work on the same locations\, their different viewpoints and styles will express two different visions of the same region. Taken together\, the whole exhibition will bring the viewer a deeper picture of what Texas has to offer.”
URL:https://southwestcontemporary.com/event/artist-talk-seeing-double/
LOCATION:Georgetown Art Center\, 816 S Main St\, Georgetown\, TX\, 78626\, United States
CATEGORIES:Exhibition Openings,Talks/Lectures
ATTACH;FMTTYPE=image/jpeg:https://southwestcontemporary.com/wp-content/uploads/2026/04/Part-of-the-Landscape-scaled-e1776187682833.jpeg
GEO:30.6359263;-97.6772577
X-APPLE-STRUCTURED-LOCATION;VALUE=URI;X-ADDRESS=Georgetown Art Center 816 S Main St Georgetown TX 78626 United States;X-APPLE-RADIUS=500;X-TITLE=816 S Main St:geo:-97.6772577,30.6359263
END:VEVENT
BEGIN:VEVENT
DTSTART;VALUE=DATE:20260612
DTEND;VALUE=DATE:20260621
DTSTAMP:20260421T084051
CREATED:20260318T155918Z
LAST-MODIFIED:20260318T155918Z
UID:10005607-1781222400-1781999999@southwestcontemporary.com
SUMMARY:Opening Reception: 2666 Project
DESCRIPTION:The 2666 Project is a series of paintings made directly onto the pages of a physical paperback copy of Roberto Bolaño’s novel 2666. The book\, unfinished at the time of the author’s death\, is sprawling\, fragmented\, and deeply haunting. It moves through overlapping narratives of violence\, obsession\, academia\, and art\, which\, for me\, left behind a powerful sense of foreboding—hinting at something deeply troubling within our global economic policies and its impact on marginalized cultures. \nI have painted over every odd-numbered page\, for a total of 457 pages/paintings. My intention was not to create “illustrations” that directly match the narrative\, but to make work based on the impressions and emotional imprint the book left me with. By painting on every odd-numbered page of the book\, transforming the physical copy of the book into a continuous sequence and complete visual object. \nThe goal isn’t to explain or interpret 2666\, but to remain with the feeling it left behind. My intent is to create a standalone work layered onto a preexisting one—a transformation of a mass-produced object into something that stands on its own.
URL:https://southwestcontemporary.com/event/opening-reception-2666-project/
LOCATION:Eugene Binder Gallery\, 218 Highland St\, Marfa\, 79843
CATEGORIES:Exhibition Openings
ATTACH;FMTTYPE=image/jpeg:https://southwestcontemporary.com/wp-content/uploads/2026/03/2666poster-Page-1-e1773849534164.jpg
ORGANIZER;CN="Lucas Dimick Presents":MAILTO:lwdimick@mac.com
GEO:30.3127109;-104.0214136
X-APPLE-STRUCTURED-LOCATION;VALUE=URI;X-ADDRESS=Eugene Binder Gallery 218 Highland St Marfa 79843;X-APPLE-RADIUS=500;X-TITLE=218 Highland St:geo:-104.0214136,30.3127109
END:VEVENT
END:VCALENDAR