BEGIN:VCALENDAR
VERSION:2.0
PRODID:-//Southwest Contemporary - ECPv6.15.13//NONSGML v1.0//EN
CALSCALE:GREGORIAN
METHOD:PUBLISH
X-ORIGINAL-URL:https://southwestcontemporary.com
X-WR-CALDESC:Events for Southwest Contemporary
REFRESH-INTERVAL;VALUE=DURATION:PT1H
X-Robots-Tag:noindex
X-PUBLISHED-TTL:PT1H
BEGIN:VTIMEZONE
TZID:America/Denver
BEGIN:DAYLIGHT
TZOFFSETFROM:-0700
TZOFFSETTO:-0600
TZNAME:MDT
DTSTART:20250309T090000
END:DAYLIGHT
BEGIN:STANDARD
TZOFFSETFROM:-0600
TZOFFSETTO:-0700
TZNAME:MST
DTSTART:20251102T080000
END:STANDARD
BEGIN:DAYLIGHT
TZOFFSETFROM:-0700
TZOFFSETTO:-0600
TZNAME:MDT
DTSTART:20260308T090000
END:DAYLIGHT
BEGIN:STANDARD
TZOFFSETFROM:-0600
TZOFFSETTO:-0700
TZNAME:MST
DTSTART:20261101T080000
END:STANDARD
BEGIN:DAYLIGHT
TZOFFSETFROM:-0700
TZOFFSETTO:-0600
TZNAME:MDT
DTSTART:20270314T090000
END:DAYLIGHT
BEGIN:STANDARD
TZOFFSETFROM:-0600
TZOFFSETTO:-0700
TZNAME:MST
DTSTART:20271107T080000
END:STANDARD
END:VTIMEZONE
BEGIN:VEVENT
DTSTART;TZID=America/Denver:20260424T090000
DTEND;TZID=America/Denver:20260425T170000
DTSTAMP:20260421T060558
CREATED:20260407T150132Z
LAST-MODIFIED:20260407T150147Z
UID:10005683-1777021200-1777136400@southwestcontemporary.com
SUMMARY:Festival: Spring Arts Market
DESCRIPTION:The highly anticipated annual Spring Arts Market brings over 60 Native vendors to the IPCC courtyard\, along with cultural dance performances all day starting at 10am. This is a one-of-a-kind opportunity for visitors to shop for authentic Native art directly from artists and learn about the techniques and stories behind their work.\nSpring Arts Market Dance Schedule 4/24 & 4/25\n10AM-11AM – The Next Generation Dance Group (Pueblo of Acoma)\n11AM-12PM – Red Mesa Dance Group (Pueblo of Jemez)\n12PM-1PM – Northern/Southern Tewa Dancers (Ohkay Owingeh)\n1PM-2PM – Oak Canyon Dance Group (Pueblo of Jemez)\n2PM-3PM – Sky City Buffalo Ram Dancers (Pueblo of Acoma)\n3PM-4PM – White Mountain Apache Crown Dancers (White Mountain Apache)
URL:https://southwestcontemporary.com/event/spring-arts-market/
LOCATION:Indian Pueblo Cultural Center\, 2401 12th Street NW\, Albuquerque\, NM\, 87104\, United States
CATEGORIES:Fairs/Festivals
ATTACH;FMTTYPE=image/png:https://southwestcontemporary.com/wp-content/uploads/2026/04/spring-arts-market.png
ORGANIZER;CN="Indian Pueblo Cultural Center":MAILTO:thelatest@indianpueblo.org
GEO:35.1092812;-106.6591118
X-APPLE-STRUCTURED-LOCATION;VALUE=URI;X-ADDRESS=Indian Pueblo Cultural Center 2401 12th Street NW Albuquerque NM 87104 United States;X-APPLE-RADIUS=500;X-TITLE=2401 12th Street NW:geo:-106.6591118,35.1092812
END:VEVENT
BEGIN:VEVENT
DTSTART;TZID=America/Denver:20260424T170000
DTEND;TZID=America/Denver:20260424T193000
DTSTAMP:20260421T060558
CREATED:20260403T164016Z
LAST-MODIFIED:20260403T164016Z
UID:10005677-1777050000-1777059000@southwestcontemporary.com
SUMMARY:Opening Reception: Canyons: New Work | Alan Paine Radebaugh
DESCRIPTION:Paintings influenced by travels within the Southwest\, an area featuring spectacularly scenic gorges\, mesas\, rivers\, and winding canyons. \nShow runs from April 24–May 29\, 2026 \nGallery Hours:\nTuesdays: 11:00 AM–3:00 PM\nThursdays: 1:00–4:00 PM\nFridays: 3:00–6:00 PM \nPlease ring the doorbell. \nAlso open by appointment\, please email info@radebaughfineart.com to schedule.
URL:https://southwestcontemporary.com/event/opening-reception-canyons-new-work-alan-paine-radebaugh/
LOCATION:Robert M. Ellis Art Collection Trust\, 7401 Menual Blvd NE\, Albuquerque\, NM\, 87110
CATEGORIES:Exhibition Openings,Receptions
ATTACH;FMTTYPE=image/jpeg:https://southwestcontemporary.com/wp-content/uploads/2026/04/CANYONS-56-web2-e1775234383929.jpg
GEO:35.1095376;-106.5620218
X-APPLE-STRUCTURED-LOCATION;VALUE=URI;X-ADDRESS=Robert M. Ellis Art Collection Trust 7401 Menual Blvd NE Albuquerque NM 87110;X-APPLE-RADIUS=500;X-TITLE=7401 Menual Blvd NE:geo:-106.5620218,35.1095376
END:VEVENT
BEGIN:VEVENT
DTSTART;TZID=America/Denver:20260501T170000
DTEND;TZID=America/Denver:20260501T200000
DTSTAMP:20260421T060558
CREATED:20260420T183128Z
LAST-MODIFIED:20260420T183128Z
UID:10005753-1777654800-1777665600@southwestcontemporary.com
SUMMARY:Exhibition Opening: Miniatures and Small Works
DESCRIPTION:The Gallery ABQ presents “Miniature and Small Works” on May 1\, 2026\, from 5:00 pm–8:00 pm. The May Featured Artists will be Russ Bessette (wood) and Laura McIndoo (ceramics). \nSee the gallery website at www.thegalleryabq.com or Facebook@TheGalleryAbq. 505-292-9333. \nThe Gallery ABQ in Hoffmantown is open Tuesday–Saturday\, from 11:00–4:00 pm.
URL:https://southwestcontemporary.com/event/exhibition-opening-miniatures-and-small-works/
LOCATION:The Gallery ABQ\, 8210 Menual NE\, Albuquerque\, NM\, 87110\, United States
CATEGORIES:Exhibition Openings
ATTACH;FMTTYPE=image/jpeg:https://southwestcontemporary.com/wp-content/uploads/2026/04/Pat_Cream_May_2026-e1776709866355.jpg
GEO:35.108856;-106.5527046
X-APPLE-STRUCTURED-LOCATION;VALUE=URI;X-ADDRESS=The Gallery ABQ 8210 Menual NE Albuquerque NM 87110 United States;X-APPLE-RADIUS=500;X-TITLE=8210 Menual NE:geo:-106.5527046,35.108856
END:VEVENT
BEGIN:VEVENT
DTSTART;TZID=America/Denver:20260502T160000
DTEND;TZID=America/Denver:20260502T180000
DTSTAMP:20260421T060558
CREATED:20260417T173509Z
LAST-MODIFIED:20260417T173509Z
UID:10005743-1777737600-1777744800@southwestcontemporary.com
SUMMARY:Performance: Broadway Classics of the 1950's-70's
DESCRIPTION:In celebration of the 100th anniversary of Route 66\, join the New Mexico Performing Arts Society in Albuquerque for an evening of Broadway hits surrounded by classic cars. \nOn Saturday\, May 2\, head to the brand-new Garcia Salón de Automobilia where NMPAS artists will present a program unlike any it has before. Audience members will hear songs from such Broadway musical classics as Cabaret\, Camelot\, My Fair Lady\, Hello\, Dolly!\, Man of La Mancha\, The Sound of Music\, South Pacific and West Side Story\, along with several hits from Elvis Presley and Cole Porter. \nEnjoy the trip to the past while surrounded by the Garcia Salón de Automobilia’s pristine collection of classic cars and neon signs. A reception for attendees will be held in the Salón following the concert.
URL:https://southwestcontemporary.com/event/performance-broadway-classics-of-the-1950s-70s/
LOCATION:Garcia Salon de Automobilia\, 1701 Broadway Blvd. NE\, Albuquerque
CATEGORIES:Concerts,Performances
ATTACH;FMTTYPE=image/png:https://southwestcontemporary.com/wp-content/uploads/2026/04/GarciaSalondeAutomobilia2.png
ORGANIZER;CN="New Mexico Performing Arts Society":MAILTO:beakspeak@gmail.com
GEO:35.101439;-106.64194
X-APPLE-STRUCTURED-LOCATION;VALUE=URI;X-ADDRESS=Garcia Salon de Automobilia 1701 Broadway Blvd. NE Albuquerque;X-APPLE-RADIUS=500;X-TITLE=1701 Broadway Blvd. NE:geo:-106.64194,35.101439
END:VEVENT
BEGIN:VEVENT
DTSTART;TZID=America/Denver:20260503T100000
DTEND;TZID=America/Denver:20260523T160000
DTSTAMP:20260421T060558
CREATED:20260417T174712Z
LAST-MODIFIED:20260417T174712Z
UID:10005740-1777802400-1779552000@southwestcontemporary.com
SUMMARY:Opening Reception: NM Watercolor Spring Exhibition
DESCRIPTION:The NM Watercolor Society hosts its Annual Spring Exhibition at the iconic Fine Arts Building at EXPO-New Mexico. The show features over 200 standard and small-to-medium sized original works. All paintings are available for purchase. Join us for a gala Grand Opening reception and award ceremony on Saturday\, May 2 from 1 to 4 PM. Admission is free\, and EXPO-NM parking fees may apply. \nThe Exhibition runs May 3 through the 23rd\, Thursdays through Sundays.
URL:https://southwestcontemporary.com/event/opening-reception-nm-watercolor-spring-exhibition/
LOCATION:Expo New Mexico Fine Arts Building\, 300 San Pedro Dr Ne\, Albuquerque\, 87108
CATEGORIES:Exhibition Openings,Receptions
ATTACH;FMTTYPE=image/jpeg:https://southwestcontemporary.com/wp-content/uploads/2026/04/Golden-Hour-scaled-e1776447964849.jpg
ORGANIZER;CN="NM Watercolor Society":MAILTO:nmwatercolorsociety@gmail.com
GEO:35.0818477;-106.5731392
X-APPLE-STRUCTURED-LOCATION;VALUE=URI;X-ADDRESS=Expo New Mexico Fine Arts Building 300 San Pedro Dr Ne Albuquerque 87108;X-APPLE-RADIUS=500;X-TITLE=300 San Pedro Dr Ne:geo:-106.5731392,35.0818477
END:VEVENT
BEGIN:VEVENT
DTSTART;TZID=America/Denver:20260506T180000
DTEND;TZID=America/Denver:20260506T200000
DTSTAMP:20260421T060558
CREATED:20260420T185256Z
LAST-MODIFIED:20260420T185256Z
UID:10005749-1778090400-1778097600@southwestcontemporary.com
SUMMARY:Performance: हवा तुम\, घुल जाना\, खो जाना\, मगर मिल जाना [Oh wind (if you must)\, dissolve\,  wander (get lost)\, but be found (find me)]
DESCRIPTION:A noise and movement-based performance exploring teachings of wind\, and the process of anti-colonial\, embodied and communal meaning-making outside in a field. \nONE NIGHT ONLY PERFORMANCE: May 6th at 6:15 pm in the habitat field\nARTIST TALK: May 8th at 3:00 pm in the conference room\nLOCATION: Open Space Visitors Center\, 6500 Coors Blvd NW \nperformance in collaboration with हवा havaa (Wind)\, Coyote Willow\, Aiko Jio\, Kelly Feng\, Armando de-la Torre\, Benjamin Lachelt\, Chuck Tucker \nsculpture on view until dissolution \ncontact: sachikz@unm.edu \nsachika.studio
URL:https://southwestcontemporary.com/event/performance-%e0%a4%b9%e0%a4%b5%e0%a4%be-%e0%a4%a4%e0%a5%81%e0%a4%ae-%e0%a4%98%e0%a5%81%e0%a4%b2-%e0%a4%9c%e0%a4%be%e0%a4%a8%e0%a4%be-%e0%a4%96%e0%a5%8b-%e0%a4%9c%e0%a4%be%e0%a4%a8/
LOCATION:Open Space Visitors Center\, 6500 Coors Blvd NW\, Albuquerque\, 87120
CATEGORIES:Exhibition Openings,Performances
ATTACH;FMTTYPE=image/jpeg:https://southwestcontemporary.com/wp-content/uploads/2026/04/Sachika_postercompressed-e1776711156923.jpeg
GEO:35.1651492;-106.6732992
X-APPLE-STRUCTURED-LOCATION;VALUE=URI;X-ADDRESS=DESCRIPTION:A noise and movement-based performance exploring teachings of wind and the process of anti-colonial embodied and communal meaning-making outside in a field. \nONE NIGHT ONLY PERFORMANCE: May 6th at 6:15 pm in the habitat field\nARTIST TALK: May 8th at 3:00 pm in the conference room\n Open Space Visitors Center 6500 Coors Blvd NW \nperformance in collaboration with हवा havaa (Wind) Coyote Willow Aiko Jio Kelly Feng Armando de-la Torre Benjamin Lachelt Chuck Tucker \nsculpture on view until dissolution \ncontact: sachikz@unm.edu \nsachika.studio;X-APPLE-RADIUS=500;X-TITLE=6500 Coors Blvd NW:geo:-106.6732992,35.1651492
END:VEVENT
END:VCALENDAR