BEGIN:VCALENDAR
VERSION:2.0
PRODID:-//Southwest Contemporary - ECPv6.15.13//NONSGML v1.0//EN
CALSCALE:GREGORIAN
METHOD:PUBLISH
X-WR-CALNAME:Southwest Contemporary
X-ORIGINAL-URL:https://southwestcontemporary.com
X-WR-CALDESC:Events for Southwest Contemporary
REFRESH-INTERVAL;VALUE=DURATION:PT1H
X-Robots-Tag:noindex
X-PUBLISHED-TTL:PT1H
BEGIN:VTIMEZONE
TZID:America/Denver
BEGIN:DAYLIGHT
TZOFFSETFROM:-0700
TZOFFSETTO:-0600
TZNAME:MDT
DTSTART:20250309T090000
END:DAYLIGHT
BEGIN:STANDARD
TZOFFSETFROM:-0600
TZOFFSETTO:-0700
TZNAME:MST
DTSTART:20251102T080000
END:STANDARD
BEGIN:DAYLIGHT
TZOFFSETFROM:-0700
TZOFFSETTO:-0600
TZNAME:MDT
DTSTART:20260308T090000
END:DAYLIGHT
BEGIN:STANDARD
TZOFFSETFROM:-0600
TZOFFSETTO:-0700
TZNAME:MST
DTSTART:20261101T080000
END:STANDARD
BEGIN:DAYLIGHT
TZOFFSETFROM:-0700
TZOFFSETTO:-0600
TZNAME:MDT
DTSTART:20270314T090000
END:DAYLIGHT
BEGIN:STANDARD
TZOFFSETFROM:-0600
TZOFFSETTO:-0700
TZNAME:MST
DTSTART:20271107T080000
END:STANDARD
END:VTIMEZONE
BEGIN:VEVENT
DTSTART;TZID=America/Denver:20260702T100000
DTEND;TZID=America/Denver:20260702T160000
DTSTAMP:20260419T114809
CREATED:20260206T190215Z
LAST-MODIFIED:20260206T190215Z
UID:10005328-1782986400-1783008000@southwestcontemporary.com
SUMMARY:Festival: Park 2 Park Artisan & Food Market
DESCRIPTION:The Park 2 Park Vendor Show is a four-day outdoor market held over the Fourth of July weekend in the heart of downtown Pagosa Springs\, Colorado. This popular summer event will feature approximately 100 vendors spread across two scenic downtown parks\, creating a walkable\, park-to-park shopping experience for attendees. \nVisitors can browse a wide variety of handmade goods\, art\, specialty foods\, crafts\, and unique products while enjoying everything Pagosa Springs has to offer—hot springs\, riverwalks\, live activity\, and holiday festivities. With strong holiday foot traffic from locals and visitors alike\, Park 2 Park provides an excellent opportunity for vendors to showcase their products in a vibrant\, high-energy setting. To become a vendor visit https://pagosachamber.com/park-2-park-artisan-food-market.html
URL:https://southwestcontemporary.com/event/festival-park-2-park-artisan-food-market/2026-07-02/
LOCATION:Town Park Pagosa Springs\, Hermosa St\, Pagosa Springs\, CO\, 81147\, United States
CATEGORIES:Fairs/Festivals,Food + Drink
ATTACH;FMTTYPE=image/jpeg:https://southwestcontemporary.com/wp-content/uploads/2026/02/DSC_0044-scaled-e1770404507217.jpg
ORGANIZER;CN="PagosaSpringsAreaChamberofCommerce":MAILTO:events@pagosachamber.com
GEO:37.2677468;-107.0065662
X-APPLE-STRUCTURED-LOCATION;VALUE=URI;X-ADDRESS=Town Park Pagosa Springs Hermosa St Pagosa Springs CO 81147 United States;X-APPLE-RADIUS=500;X-TITLE=Hermosa St:geo:-107.0065662,37.2677468
END:VEVENT
BEGIN:VEVENT
DTSTART;TZID=America/Denver:20260703T100000
DTEND;TZID=America/Denver:20260703T160000
DTSTAMP:20260419T114809
CREATED:20260206T190215Z
LAST-MODIFIED:20260206T190215Z
UID:10005439-1783072800-1783094400@southwestcontemporary.com
SUMMARY:Festival: Park 2 Park Artisan & Food Market
DESCRIPTION:The Park 2 Park Vendor Show is a four-day outdoor market held over the Fourth of July weekend in the heart of downtown Pagosa Springs\, Colorado. This popular summer event will feature approximately 100 vendors spread across two scenic downtown parks\, creating a walkable\, park-to-park shopping experience for attendees. \nVisitors can browse a wide variety of handmade goods\, art\, specialty foods\, crafts\, and unique products while enjoying everything Pagosa Springs has to offer—hot springs\, riverwalks\, live activity\, and holiday festivities. With strong holiday foot traffic from locals and visitors alike\, Park 2 Park provides an excellent opportunity for vendors to showcase their products in a vibrant\, high-energy setting. To become a vendor visit https://pagosachamber.com/park-2-park-artisan-food-market.html
URL:https://southwestcontemporary.com/event/festival-park-2-park-artisan-food-market/2026-07-03/
LOCATION:Town Park Pagosa Springs\, Hermosa St\, Pagosa Springs\, CO\, 81147\, United States
CATEGORIES:Fairs/Festivals,Food + Drink
ATTACH;FMTTYPE=image/jpeg:https://southwestcontemporary.com/wp-content/uploads/2026/02/DSC_0044-scaled-e1770404507217.jpg
ORGANIZER;CN="PagosaSpringsAreaChamberofCommerce":MAILTO:events@pagosachamber.com
GEO:37.2677468;-107.0065662
X-APPLE-STRUCTURED-LOCATION;VALUE=URI;X-ADDRESS=Town Park Pagosa Springs Hermosa St Pagosa Springs CO 81147 United States;X-APPLE-RADIUS=500;X-TITLE=Hermosa St:geo:-107.0065662,37.2677468
END:VEVENT
BEGIN:VEVENT
DTSTART;TZID=America/Denver:20260704T100000
DTEND;TZID=America/Denver:20260704T160000
DTSTAMP:20260419T114809
CREATED:20260206T190215Z
LAST-MODIFIED:20260206T190215Z
UID:10005440-1783159200-1783180800@southwestcontemporary.com
SUMMARY:Festival: Park 2 Park Artisan & Food Market
DESCRIPTION:The Park 2 Park Vendor Show is a four-day outdoor market held over the Fourth of July weekend in the heart of downtown Pagosa Springs\, Colorado. This popular summer event will feature approximately 100 vendors spread across two scenic downtown parks\, creating a walkable\, park-to-park shopping experience for attendees. \nVisitors can browse a wide variety of handmade goods\, art\, specialty foods\, crafts\, and unique products while enjoying everything Pagosa Springs has to offer—hot springs\, riverwalks\, live activity\, and holiday festivities. With strong holiday foot traffic from locals and visitors alike\, Park 2 Park provides an excellent opportunity for vendors to showcase their products in a vibrant\, high-energy setting. To become a vendor visit https://pagosachamber.com/park-2-park-artisan-food-market.html
URL:https://southwestcontemporary.com/event/festival-park-2-park-artisan-food-market/2026-07-04/
LOCATION:Town Park Pagosa Springs\, Hermosa St\, Pagosa Springs\, CO\, 81147\, United States
CATEGORIES:Fairs/Festivals,Food + Drink
ATTACH;FMTTYPE=image/jpeg:https://southwestcontemporary.com/wp-content/uploads/2026/02/DSC_0044-scaled-e1770404507217.jpg
ORGANIZER;CN="PagosaSpringsAreaChamberofCommerce":MAILTO:events@pagosachamber.com
GEO:37.2677468;-107.0065662
X-APPLE-STRUCTURED-LOCATION;VALUE=URI;X-ADDRESS=Town Park Pagosa Springs Hermosa St Pagosa Springs CO 81147 United States;X-APPLE-RADIUS=500;X-TITLE=Hermosa St:geo:-107.0065662,37.2677468
END:VEVENT
BEGIN:VEVENT
DTSTART;TZID=America/Denver:20260705T100000
DTEND;TZID=America/Denver:20260705T160000
DTSTAMP:20260419T114809
CREATED:20260206T190215Z
LAST-MODIFIED:20260206T190215Z
UID:10005441-1783245600-1783267200@southwestcontemporary.com
SUMMARY:Festival: Park 2 Park Artisan & Food Market
DESCRIPTION:The Park 2 Park Vendor Show is a four-day outdoor market held over the Fourth of July weekend in the heart of downtown Pagosa Springs\, Colorado. This popular summer event will feature approximately 100 vendors spread across two scenic downtown parks\, creating a walkable\, park-to-park shopping experience for attendees. \nVisitors can browse a wide variety of handmade goods\, art\, specialty foods\, crafts\, and unique products while enjoying everything Pagosa Springs has to offer—hot springs\, riverwalks\, live activity\, and holiday festivities. With strong holiday foot traffic from locals and visitors alike\, Park 2 Park provides an excellent opportunity for vendors to showcase their products in a vibrant\, high-energy setting. To become a vendor visit https://pagosachamber.com/park-2-park-artisan-food-market.html
URL:https://southwestcontemporary.com/event/festival-park-2-park-artisan-food-market/2026-07-05/
LOCATION:Town Park Pagosa Springs\, Hermosa St\, Pagosa Springs\, CO\, 81147\, United States
CATEGORIES:Fairs/Festivals,Food + Drink
ATTACH;FMTTYPE=image/jpeg:https://southwestcontemporary.com/wp-content/uploads/2026/02/DSC_0044-scaled-e1770404507217.jpg
ORGANIZER;CN="PagosaSpringsAreaChamberofCommerce":MAILTO:events@pagosachamber.com
GEO:37.2677468;-107.0065662
X-APPLE-STRUCTURED-LOCATION;VALUE=URI;X-ADDRESS=Town Park Pagosa Springs Hermosa St Pagosa Springs CO 81147 United States;X-APPLE-RADIUS=500;X-TITLE=Hermosa St:geo:-107.0065662,37.2677468
END:VEVENT
END:VCALENDAR