BEGIN:VCALENDAR
VERSION:2.0
PRODID:-//Southwest Contemporary - ECPv6.15.13//NONSGML v1.0//EN
CALSCALE:GREGORIAN
METHOD:PUBLISH
X-ORIGINAL-URL:https://southwestcontemporary.com
X-WR-CALDESC:Events for Southwest Contemporary
REFRESH-INTERVAL;VALUE=DURATION:PT1H
X-Robots-Tag:noindex
X-PUBLISHED-TTL:PT1H
BEGIN:VTIMEZONE
TZID:America/Denver
BEGIN:DAYLIGHT
TZOFFSETFROM:-0700
TZOFFSETTO:-0600
TZNAME:MDT
DTSTART:20250309T090000
END:DAYLIGHT
BEGIN:STANDARD
TZOFFSETFROM:-0600
TZOFFSETTO:-0700
TZNAME:MST
DTSTART:20251102T080000
END:STANDARD
BEGIN:DAYLIGHT
TZOFFSETFROM:-0700
TZOFFSETTO:-0600
TZNAME:MDT
DTSTART:20260308T090000
END:DAYLIGHT
BEGIN:STANDARD
TZOFFSETFROM:-0600
TZOFFSETTO:-0700
TZNAME:MST
DTSTART:20261101T080000
END:STANDARD
BEGIN:DAYLIGHT
TZOFFSETFROM:-0700
TZOFFSETTO:-0600
TZNAME:MDT
DTSTART:20270314T090000
END:DAYLIGHT
BEGIN:STANDARD
TZOFFSETFROM:-0600
TZOFFSETTO:-0700
TZNAME:MST
DTSTART:20271107T080000
END:STANDARD
END:VTIMEZONE
BEGIN:VEVENT
DTSTART;TZID=America/Denver:20260423T170000
DTEND;TZID=America/Denver:20260423T190000
DTSTAMP:20260421T084102
CREATED:20260414T170154Z
LAST-MODIFIED:20260414T170154Z
UID:10005732-1776963600-1776970800@southwestcontemporary.com
SUMMARY:Panel Conversation: ConnectArte: Community\, Youth & Collective Art Making
DESCRIPTION:This ConnectArte program brings together young artists from the exhibition Nuestras Historias for a panel discussion on community-based art-making and museum engagement. Guided by curator\, Andrea Garcia Vasquez\, and project director\, Kristina Stamatis\, the panel will bridge how the exhibition came to take it’s final form\, stories of community during the youth workshops\, and how creative programming benefits culture and collectivity. \nThe evening includes a collective art activity led by a youth artist and an open discussion with Intercambio families and Museo community members.
URL:https://southwestcontemporary.com/event/panel-conversation-connectarte-community-youth-collective-art-making/
LOCATION:Museo de las Americas\, 861 Santa Fe Drive\, Denver\, 80204
CATEGORIES:Talks/Lectures,Workshops
ATTACH;FMTTYPE=image/jpeg:https://southwestcontemporary.com/wp-content/uploads/2026/04/NH.rooms_.small_.jpg
GEO:39.7300472;-104.9989625
X-APPLE-STRUCTURED-LOCATION;VALUE=URI;X-ADDRESS=Museo de las Americas 861 Santa Fe Drive Denver 80204;X-APPLE-RADIUS=500;X-TITLE=861 Santa Fe Drive:geo:-104.9989625,39.7300472
END:VEVENT
BEGIN:VEVENT
DTSTART;TZID=America/Denver:20260428T110000
DTEND;TZID=America/Denver:20260501T170000
DTSTAMP:20260421T084102
CREATED:20260318T164228Z
LAST-MODIFIED:20260318T164228Z
UID:10005597-1777374000-1777654800@southwestcontemporary.com
SUMMARY:Opening Reception: In The Eyes by Taylor Thomas
DESCRIPTION:Sourced from her grandmothers’ photo archives and the archive of Film & Television media\, Taylor Thomas questions the influence of external representational systems on the Black family. In her paintings\, Thomas paints the skin of her subjects with chrome paint\, a nod to television static and the ambiguous nature of knowing an “other”. Thomas’ collages explore the relationship between skin and body and interiority and exteriority as she abstracts the faces of members of Black Hollywood along with members of her own family into pixelated squares.
URL:https://southwestcontemporary.com/event/opening-reception-in-the-eyes-by-taylor-thomas/
LOCATION:Strata Gallery\, 125 Lincoln Ave\, Ste 111\, Santa Fe\, NM\, 87501\, United States
CATEGORIES:Exhibition Openings,Receptions,Talks/Lectures
ATTACH;FMTTYPE=image/jpeg:https://southwestcontemporary.com/wp-content/uploads/2026/03/Taylor-Thomas-Composite-2-23-x-37-inches-approx-Collage-paper-and-metal-rings-2025-scaled-e1773852092983.jpg
GEO:35.7135437;-105.8407722
X-APPLE-STRUCTURED-LOCATION;VALUE=URI;X-ADDRESS=Strata Gallery 125 Lincoln Ave Ste 111 Santa Fe NM 87501 United States;X-APPLE-RADIUS=500;X-TITLE=125 Lincoln Ave\, Ste 111:geo:-105.8407722,35.7135437
END:VEVENT
BEGIN:VEVENT
DTSTART;TZID=America/Denver:20260430T173000
DTEND;TZID=America/Denver:20260430T183000
DTSTAMP:20260421T084102
CREATED:20260320T152937Z
LAST-MODIFIED:20260320T152937Z
UID:10005614-1777570200-1777573800@southwestcontemporary.com
SUMMARY:Artist Talk\, Patterns of Wonder: How Nature and Photography Transform the Mind
DESCRIPTION:Join CENTER for an online artist talk\, Patterns of Wonder: How Nature and Photography Transform the Mind\, with Australian photographer Jon McCormack. McCormack will discuss his current exhibition up at CENTER\, Elements of Wonder\, as well as creativity\, pattern as a primary language\, colorblindness\, his octopus experience\, emotional regulation\, and the neuroscience of awe.
URL:https://southwestcontemporary.com/event/artist-talk-patterns-of-wonder-how-nature-and-photography-transform-the-mind/
CATEGORIES:Talks/Lectures
ATTACH;FMTTYPE=image/jpeg:https://southwestcontemporary.com/wp-content/uploads/2026/03/LakeSabrina-20210811-_DSC0678-copy-e1774020541261.jpg
END:VEVENT
BEGIN:VEVENT
DTSTART;TZID=America/Denver:20260502T140000
DTEND;TZID=America/Denver:20260502T150000
DTSTAMP:20260421T084102
CREATED:20260403T183917Z
LAST-MODIFIED:20260403T183917Z
UID:10005688-1777730400-1777734000@southwestcontemporary.com
SUMMARY:Artist Conversation: Elaine Ritchel
DESCRIPTION:Join us for an Artist Conversation with Elaine Ritchel\, in honor of her exhibition\, Desert Drift\, which will be on view at the Gallery at El Zaguán from April 17 to May 9\, 2026 \nElaine Ritchel will be in conversation with Gallery Director Anne Kelly. \nComplimentary public program\, open to the public\, although advanced registration is recommended to guarantee seating. \nContact Anne Kelly at anne@historicsantafe.org for more information.
URL:https://southwestcontemporary.com/event/artist-conversation-elaine-ritchel/
LOCATION:El Zaguan at the Historic Santa Fe Foundation\, 545 Canyon Road\, Santa Fe\, NM\, 87501\, United States
CATEGORIES:Talks/Lectures
ATTACH;FMTTYPE=image/jpeg:https://southwestcontemporary.com/wp-content/uploads/2026/04/headshot-scaled-e1775241520624.jpeg
GEO:35.682311;-105.9297606
X-APPLE-STRUCTURED-LOCATION;VALUE=URI;X-ADDRESS=El Zaguan at the Historic Santa Fe Foundation 545 Canyon Road Santa Fe NM 87501 United States;X-APPLE-RADIUS=500;X-TITLE=545 Canyon Road:geo:-105.9297606,35.682311
END:VEVENT
BEGIN:VEVENT
DTSTART;TZID=America/Denver:20260502T170000
DTEND;TZID=America/Denver:20260502T200000
DTSTAMP:20260421T084102
CREATED:20260414T165714Z
LAST-MODIFIED:20260414T165714Z
UID:10005733-1777741200-1777752000@southwestcontemporary.com
SUMMARY:Exhibition Opening: Poetics of the Mundane
DESCRIPTION:Archway Gallery presents Poetics of the Mundane\, featuring new paintings and collages by Silvia PintoSouza and ceramic works and sculptures by guest artist Jeff Forster\, on view May 2–June 4\, 2026. Join the opening reception Saturday\, May 2\, from 5 to 8 p.m.\, with artist talk at 6:30 p.m. \nArchway Gallery artist\, Silvia PintoSouza\, and Department Head of Ceramics at The Glassell School of Art\, Jeff Forster\, are focusing their dual exhibit on the transitory nature of life and the scenes and objects that fire their imagination\, capturing both a sense of permanence and transition through their artistic media. \nThis compelling dual exhibition explores the fleeting nature of everyday life\, transforming ordinary objects and overlooked materials into works that balance permanence and change. PintoSouza elevates familiar subjects through layered\, translucent acrylics\, simplifying form and color to create luminous\, abstract compositions rich with depth and nuance. Working in intimate formats\, she brings precision and quiet intensity to each piece. \nForster reimagines discarded materials—drawing from agricultural and industrial remnants—to create sculptural forms that highlight texture\, process\, and reinvention. His environmentally conscious approach reveals beauty in what is often ignored\, offering a powerful reflection on memory\, transformation\, and the poetry found in the everyday.
URL:https://southwestcontemporary.com/event/exhibition-opening-poetics-of-the-mundane/
LOCATION:Archway Gallery\, 2305 Dunlavy\, Houston\, TX\, 77006\, United States
CATEGORIES:Exhibition Openings,Talks/Lectures
ATTACH;FMTTYPE=image/jpeg:https://southwestcontemporary.com/wp-content/uploads/2026/04/SPS_WhiteFields_24x24-e1776185812917.jpg
GEO:29.7454582;-95.4018496
X-APPLE-STRUCTURED-LOCATION;VALUE=URI;X-ADDRESS=Archway Gallery 2305 Dunlavy Houston TX 77006 United States;X-APPLE-RADIUS=500;X-TITLE=2305 Dunlavy:geo:-95.4018496,29.7454582
END:VEVENT
BEGIN:VEVENT
DTSTART;TZID=America/Denver:20260503T140000
DTEND;TZID=America/Denver:20260503T153000
DTSTAMP:20260421T084102
CREATED:20260414T173130Z
LAST-MODIFIED:20260414T173246Z
UID:10005727-1777816800-1777822200@southwestcontemporary.com
SUMMARY:Artist Talk: Seeing Double
DESCRIPTION:Join the Georgetown Art Center in welcoming artists Denise Elliott Jones and Debbie Carroll for an in-depth discussion about their Seeing Double exhibit. This is a free event taking place during normal business hours and is open to all ages. \n“Seeing Double—Two Views of Texas\, presents a unique vision of Texas by Debbie Carroll and Denise Elliott Jones. Works will focus on the seven regions of Texas: Big Bend\, Gulf Coast\, Hill Country\, Panhandle\, Piney Woods\, Prairies and Lakes\, and South Texas Plains. Each artist will use her unique style to capture the feel and spirit of each region. Basing their work on the same locations\, their different viewpoints and styles will express two different visions of the same region. Taken together\, the whole exhibition will bring the viewer a deeper picture of what Texas has to offer.”
URL:https://southwestcontemporary.com/event/artist-talk-seeing-double/
LOCATION:Georgetown Art Center\, 816 S Main St\, Georgetown\, TX\, 78626\, United States
CATEGORIES:Exhibition Openings,Talks/Lectures
ATTACH;FMTTYPE=image/jpeg:https://southwestcontemporary.com/wp-content/uploads/2026/04/Part-of-the-Landscape-scaled-e1776187682833.jpeg
GEO:30.6359263;-97.6772577
X-APPLE-STRUCTURED-LOCATION;VALUE=URI;X-ADDRESS=Georgetown Art Center 816 S Main St Georgetown TX 78626 United States;X-APPLE-RADIUS=500;X-TITLE=816 S Main St:geo:-97.6772577,30.6359263
END:VEVENT
BEGIN:VEVENT
DTSTART;TZID=America/Denver:20260521T120000
DTEND;TZID=America/Denver:20260521T130000
DTSTAMP:20260421T084102
CREATED:20260407T154819Z
LAST-MODIFIED:20260407T154819Z
UID:10005696-1779364800-1779368400@southwestcontemporary.com
SUMMARY:Slow Art: In-Gallery Conversation
DESCRIPTION:Take a moment to slow down with art. Each month\, a Harwood educator will lead you through a series of exercises to explore a single work of art. Most museum visitors spend less than seven seconds with a work of art. This 30-minute conversation in the galleries will open your eyes and deepen your connection with art. \nMay Focus: Column Three by Oli Shivonen\, part of Pursuit of Happiness: GI Bill in Taos. \nNO SLOW ART IN JUNE. \nThis program is free for Members or included with admission to the Museum. \nImage: Agnes Martin Gallery\, Harwood Museum of Art\, 1993. © Estate of Agnes Martin / Artists Rights Society (ARS)\, New York. Photo by Brad Trone.
URL:https://southwestcontemporary.com/event/slow-art-in-gallery-conversation-2/
LOCATION:Harwood Museum of Art\, 238 Ledoux St\, Taos\, NM\, 87571\, United States
CATEGORIES:Exhibition Openings,Talks/Lectures,Workshops
ATTACH;FMTTYPE=image/jpeg:https://southwestcontemporary.com/wp-content/uploads/2026/04/Agnes-Martin-Gallery-1-e1775576874617.jpg
ORGANIZER;CN="Harwood Museum of Art":MAILTO:info@harwoodmuseum.org
GEO:36.4058695;-105.576936
X-APPLE-STRUCTURED-LOCATION;VALUE=URI;X-ADDRESS=Harwood Museum of Art 238 Ledoux St Taos NM 87571 United States;X-APPLE-RADIUS=500;X-TITLE=238 Ledoux St:geo:-105.576936,36.4058695
END:VEVENT
BEGIN:VEVENT
DTSTART;TZID=America/Denver:20260605T170000
DTEND;TZID=America/Denver:20260605T190000
DTSTAMP:20260421T084102
CREATED:20260403T165328Z
LAST-MODIFIED:20260403T165328Z
UID:10005684-1780678800-1780686000@southwestcontemporary.com
SUMMARY:Opening Reception: Turning From a Fixed Direction by Lita Kenyon
DESCRIPTION:Lita Kenyon’s work explores abstraction’s ability to evoke balance and tension without relying on narrative. Kenyon avoids specific references\, allowing meaning to emerge organically as images blend and shift within fields of color and gestural marks. Inspiration comes from nonobjective forms as they emerge in the composition. Kenyon’s process is guided by intuition-driven methods\, where each piece begins with a gesture and evolves through scraping\, repainting\, and layering.
URL:https://southwestcontemporary.com/event/opening-reception-turning-from-a-fixed-direction-by-lita-kenyon/
LOCATION:Strata Gallery\, 125 Lincoln Ave\, Ste 111\, Santa Fe\, NM\, 87501\, United States
CATEGORIES:Exhibition Openings,Receptions,Talks/Lectures
ATTACH;FMTTYPE=image/jpeg:https://southwestcontemporary.com/wp-content/uploads/2026/04/Lita-Kenyon-What-I-Know-of-the-Shore-46-x-42-Oil-on-Archival-Paper-2023-e1775235102689.jpg
GEO:35.7135437;-105.8407722
X-APPLE-STRUCTURED-LOCATION;VALUE=URI;X-ADDRESS=Strata Gallery 125 Lincoln Ave Ste 111 Santa Fe NM 87501 United States;X-APPLE-RADIUS=500;X-TITLE=125 Lincoln Ave\, Ste 111:geo:-105.8407722,35.7135437
END:VEVENT
BEGIN:VEVENT
DTSTART;TZID=America/Denver:20260627T110000
DTEND;TZID=America/Denver:20260627T120000
DTSTAMP:20260421T084102
CREATED:20260226T001031Z
LAST-MODIFIED:20260226T001031Z
UID:10005505-1782558000-1782561600@southwestcontemporary.com
SUMMARY:Artist Panel: Unearthing Futures/Desenterrando Futuros
DESCRIPTION:Hear from the artists featured in Unearthing Futures/Desenterrando Futuros. This event is ticketed in the Arthur Bell Auditorium. Details forthcoming. Visit The Harwood Museum of Art website for updated information. \nImage: Christine Howard Sandoval\, Arch – A Passage Formed By A Curve\, 2020\, adobe mud and graphite on paper\, 60 x 96 inches. Photo by Rachel Topham Photography.
URL:https://southwestcontemporary.com/event/artist-panel-unearthing-futures-desenterrando-futuros/
LOCATION:Harwood Museum of Art\, 238 Ledoux St\, Taos\, NM\, 87571\, United States
CATEGORIES:Talks/Lectures
ATTACH;FMTTYPE=image/jpeg:https://southwestcontemporary.com/wp-content/uploads/2026/02/DF_Artist-Panel.jpg
GEO:36.4058695;-105.576936
X-APPLE-STRUCTURED-LOCATION;VALUE=URI;X-ADDRESS=Harwood Museum of Art 238 Ledoux St Taos NM 87571 United States;X-APPLE-RADIUS=500;X-TITLE=238 Ledoux St:geo:-105.576936,36.4058695
END:VEVENT
BEGIN:VEVENT
DTSTART;TZID=America/Denver:20260912T140000
DTEND;TZID=America/Denver:20260912T150000
DTSTAMP:20260421T084102
CREATED:20260414T171912Z
LAST-MODIFIED:20260414T171912Z
UID:10005728-1789221600-1789225200@southwestcontemporary.com
SUMMARY:Lecture: Deborah C. Slaney on Julian Lovato’s Route 66 | Wheelwright Museum
DESCRIPTION:Join Deborah C. Slaney as she reflects upon the link between Silver Honors Stones: The Work of Julian Lovato and the celebration of Route 66. Between 1926 and 1937 New Mexico’s Mother Road ran straight through Santo Domingo Pueblo\, the home of young jeweler Julian Lovato. Join Deb Slaney as we explore how Lovato’s life as a jeweler intersected with Route 66\, especially during his employment at Maisel’s Trading Post\, the Thunderbird Shop\, and other establishments in Albuquerque and Santa Fe. \nEvent takes place in the Library and Collections Building. Advanced registration required ($15 for non-members and free to members).
URL:https://southwestcontemporary.com/event/lecture-deborah-c-slaney-on-julian-lovatos-route-66-wheelwright-museum/
LOCATION:Wheelwright Museum of the American Indian\, 704 Camino Lejo\, Santa Fe\, 87505
CATEGORIES:Talks/Lectures
ATTACH;FMTTYPE=image/jpeg:https://southwestcontemporary.com/wp-content/uploads/2026/04/Julian-Lovato-Image-scaled-e1776187081382.jpg
GEO:35.6627803;-105.927212
X-APPLE-STRUCTURED-LOCATION;VALUE=URI;X-ADDRESS=Wheelwright Museum of the American Indian 704 Camino Lejo Santa Fe 87505;X-APPLE-RADIUS=500;X-TITLE=704 Camino Lejo:geo:-105.927212,35.6627803
END:VEVENT
END:VCALENDAR