BEGIN:VCALENDAR
VERSION:2.0
PRODID:-//Southwest Contemporary - ECPv6.15.13//NONSGML v1.0//EN
CALSCALE:GREGORIAN
METHOD:PUBLISH
X-WR-CALNAME:Southwest Contemporary
X-ORIGINAL-URL:https://southwestcontemporary.com
X-WR-CALDESC:Events for Southwest Contemporary
REFRESH-INTERVAL;VALUE=DURATION:PT1H
X-Robots-Tag:noindex
X-PUBLISHED-TTL:PT1H
BEGIN:VTIMEZONE
TZID:America/Denver
BEGIN:DAYLIGHT
TZOFFSETFROM:-0700
TZOFFSETTO:-0600
TZNAME:MDT
DTSTART:20250309T090000
END:DAYLIGHT
BEGIN:STANDARD
TZOFFSETFROM:-0600
TZOFFSETTO:-0700
TZNAME:MST
DTSTART:20251102T080000
END:STANDARD
BEGIN:DAYLIGHT
TZOFFSETFROM:-0700
TZOFFSETTO:-0600
TZNAME:MDT
DTSTART:20260308T090000
END:DAYLIGHT
BEGIN:STANDARD
TZOFFSETFROM:-0600
TZOFFSETTO:-0700
TZNAME:MST
DTSTART:20261101T080000
END:STANDARD
BEGIN:DAYLIGHT
TZOFFSETFROM:-0700
TZOFFSETTO:-0600
TZNAME:MDT
DTSTART:20270314T090000
END:DAYLIGHT
BEGIN:STANDARD
TZOFFSETFROM:-0600
TZOFFSETTO:-0700
TZNAME:MST
DTSTART:20271107T080000
END:STANDARD
END:VTIMEZONE
BEGIN:VEVENT
DTSTART;TZID=America/Denver:20260424T090000
DTEND;TZID=America/Denver:20260425T170000
DTSTAMP:20260419T100858
CREATED:20260407T150132Z
LAST-MODIFIED:20260407T150147Z
UID:10005683-1777021200-1777136400@southwestcontemporary.com
SUMMARY:Festival: Spring Arts Market
DESCRIPTION:The highly anticipated annual Spring Arts Market brings over 60 Native vendors to the IPCC courtyard\, along with cultural dance performances all day starting at 10am. This is a one-of-a-kind opportunity for visitors to shop for authentic Native art directly from artists and learn about the techniques and stories behind their work.\nSpring Arts Market Dance Schedule 4/24 & 4/25\n10AM-11AM – The Next Generation Dance Group (Pueblo of Acoma)\n11AM-12PM – Red Mesa Dance Group (Pueblo of Jemez)\n12PM-1PM – Northern/Southern Tewa Dancers (Ohkay Owingeh)\n1PM-2PM – Oak Canyon Dance Group (Pueblo of Jemez)\n2PM-3PM – Sky City Buffalo Ram Dancers (Pueblo of Acoma)\n3PM-4PM – White Mountain Apache Crown Dancers (White Mountain Apache)
URL:https://southwestcontemporary.com/event/spring-arts-market/
LOCATION:Indian Pueblo Cultural Center\, 2401 12th Street NW\, Albuquerque\, NM\, 87104\, United States
CATEGORIES:Fairs/Festivals
ATTACH;FMTTYPE=image/png:https://southwestcontemporary.com/wp-content/uploads/2026/04/spring-arts-market.png
ORGANIZER;CN="Indian Pueblo Cultural Center":MAILTO:thelatest@indianpueblo.org
GEO:35.1092812;-106.6591118
X-APPLE-STRUCTURED-LOCATION;VALUE=URI;X-ADDRESS=Indian Pueblo Cultural Center 2401 12th Street NW Albuquerque NM 87104 United States;X-APPLE-RADIUS=500;X-TITLE=2401 12th Street NW:geo:-106.6591118,35.1092812
END:VEVENT
BEGIN:VEVENT
DTSTART;TZID=America/Denver:20260502T100000
DTEND;TZID=America/Denver:20260502T140000
DTSTAMP:20260419T100858
CREATED:20260228T042228Z
LAST-MODIFIED:20260228T042228Z
UID:10005526-1777716000-1777730400@southwestcontemporary.com
SUMMARY:Festival: Folk Art Flea
DESCRIPTION:The fabulous Folk Art Flea is back!  Once again\, the much beloved and anticipated Flea will be at the Santa Fe County Fairgrounds at 3229 Rodeo Road featuring hundreds of curated folk art pieces from collectors and artists around the world. \nThe donated art benefits educational programs and exhibitions at the Museum of International Folk Art\, through the Museum of New Mexico Foundation\, a private nonprofit organization. \nAdmission is free and members of Friends of Folk Art (FOFA) enjoy early admission to the Flea from 9 to 10 a.m. \nPublic admission is from 10 a.m. to 2 p.m.
URL:https://southwestcontemporary.com/event/festival-folk-art-flea/
LOCATION:Santa Fe County Fairgrounds\, 3229 Rodeo Rd.\, Santa Fe\, NM\, 87507
CATEGORIES:Fairs/Festivals
ATTACH;FMTTYPE=image/jpeg:https://southwestcontemporary.com/wp-content/uploads/2026/02/IMG_0189-scaled-e1772252521273.jpg
ORGANIZER;CN="Friends of Folk Art":MAILTO:friendsoffolkart@gmail.com
GEO:35.6394566;-105.9946387
X-APPLE-STRUCTURED-LOCATION;VALUE=URI;X-ADDRESS=Santa Fe County Fairgrounds 3229 Rodeo Rd. Santa Fe NM 87507;X-APPLE-RADIUS=500;X-TITLE=3229 Rodeo Rd.:geo:-105.9946387,35.6394566
END:VEVENT
BEGIN:VEVENT
DTSTART;TZID=America/Denver:20260515T073000
DTEND;TZID=America/Denver:20260515T200000
DTSTAMP:20260419T100858
CREATED:20260206T183012Z
LAST-MODIFIED:20260206T183012Z
UID:10005423-1778830200-1778875200@southwestcontemporary.com
SUMMARY:Santa Fe International Literary Festival
DESCRIPTION:The Santa Fe International Literary Festival\, taking place May 15–17\, 2026\, brings together world-renowned authors\, thinkers\, and readers to celebrate the power of story in a city known for its beauty\, history\, and artistic inspiration. The Festival believes in the power of story as an invitation to learn about ourselves and others—and to create extraordinary change. Each year we celebrate the deep literary history of Santa Fe and New Mexico and our diverse community of writers\, creating opportunities to foster a love of storytelling\, both during the Festival and beyond.
URL:https://southwestcontemporary.com/event/santa-fe-international-literary-festival/2026-05-15/
LOCATION:Santa Fe Convention Center\, 201 W Marcy Street\, Santa Fe\, NM\, 87501
CATEGORIES:Fairs/Festivals
ATTACH;FMTTYPE=image/webp:https://southwestcontemporary.com/wp-content/uploads/2026/02/TiraHowardPhotography1417-e1770402560507.webp
GEO:35.6903638;-105.9397145
X-APPLE-STRUCTURED-LOCATION;VALUE=URI;X-ADDRESS=Santa Fe Convention Center 201 W Marcy Street Santa Fe NM 87501;X-APPLE-RADIUS=500;X-TITLE=201 W Marcy Street:geo:-105.9397145,35.6903638
END:VEVENT
BEGIN:VEVENT
DTSTART;TZID=America/Denver:20260606T110000
DTEND;TZID=America/Denver:20260606T140000
DTSTAMP:20260419T100858
CREATED:20260414T181528Z
LAST-MODIFIED:20260414T181528Z
UID:10005720-1780743600-1780754400@southwestcontemporary.com
SUMMARY:Fundraiser: Benefit Sale Intake Day | Wheelwright Museum
DESCRIPTION:Donate or consign Native American art for the Wheelwright Museum’s largest fundraiser. The next Benefit Sale Intake Day is June 6\, from 11 am to 2 pm. See our website for details.
URL:https://southwestcontemporary.com/event/fundraiser-benefit-sale-intake-day-wheelwright-museum/
LOCATION:Wheelwright Museum of the American Indian\, 704 Camino Lejo\, Santa Fe\, 87505
CATEGORIES:Fairs/Festivals,Workshops
ATTACH;FMTTYPE=image/jpeg:https://southwestcontemporary.com/wp-content/uploads/2026/04/Benefit_Sale_2026-scaled-e1776190289421.jpg
GEO:35.6627803;-105.927212
X-APPLE-STRUCTURED-LOCATION;VALUE=URI;X-ADDRESS=Wheelwright Museum of the American Indian 704 Camino Lejo Santa Fe 87505;X-APPLE-RADIUS=500;X-TITLE=704 Camino Lejo:geo:-105.927212,35.6627803
END:VEVENT
BEGIN:VEVENT
DTSTART;TZID=America/Denver:20260612T170000
DTEND;TZID=America/Denver:20260613T150000
DTSTAMP:20260419T100858
CREATED:20260206T190447Z
LAST-MODIFIED:20260206T190447Z
UID:10005327-1781283600-1781362800@southwestcontemporary.com
SUMMARY:17th Annual Pagosa Springs Car Show
DESCRIPTION:Get ready for one of Pagosa Springs’ favorite summer traditions! The 2026 Annual Pagosa Springs Car Show rolls into town June 12 & 13\, 2026\, bringing together an impressive lineup of classic cars\, hot rods\, customs\, trucks\, and unique specialty vehicles from across the region. \nSet against the beautiful mountain backdrop of Pagosa Springs\, this two-day event is fun for the whole family. Spectators can stroll through beautifully restored and meticulously maintained vehicles\, meet passionate car owners\, listen to lively music or enjoy wonderful food. Whether you’re a serious car enthusiast or just love admiring amazing rides\, this show has something for everyone. To register a vehicle go to carshowpro.com/event/2931. Entry into the event is FREE for the public.
URL:https://southwestcontemporary.com/event/17th-annual-pagosa-springs-car-show/2026-06-12/
LOCATION:Yamaguchi Park\, 684 5th St\, Pagosa Springs\, CO\, 81147\, United States
CATEGORIES:Fairs/Festivals,Food + Drink
ATTACH;FMTTYPE=image/jpeg:https://southwestcontemporary.com/wp-content/uploads/2026/02/DSC_3974-scaled-e1770404670972.jpg
ORGANIZER;CN="PagosaSpringsAreaChamberOfCommerce":MAILTO:events@pagosachamber.com
GEO:37.255465;-107.0118926
X-APPLE-STRUCTURED-LOCATION;VALUE=URI;X-ADDRESS=Yamaguchi Park 684 5th St Pagosa Springs CO 81147 United States;X-APPLE-RADIUS=500;X-TITLE=684 5th St:geo:-107.0118926,37.255465
END:VEVENT
BEGIN:VEVENT
DTSTART;TZID=America/Denver:20260702T100000
DTEND;TZID=America/Denver:20260702T160000
DTSTAMP:20260419T100858
CREATED:20260206T190215Z
LAST-MODIFIED:20260206T190215Z
UID:10005328-1782986400-1783008000@southwestcontemporary.com
SUMMARY:Festival: Park 2 Park Artisan & Food Market
DESCRIPTION:The Park 2 Park Vendor Show is a four-day outdoor market held over the Fourth of July weekend in the heart of downtown Pagosa Springs\, Colorado. This popular summer event will feature approximately 100 vendors spread across two scenic downtown parks\, creating a walkable\, park-to-park shopping experience for attendees. \nVisitors can browse a wide variety of handmade goods\, art\, specialty foods\, crafts\, and unique products while enjoying everything Pagosa Springs has to offer—hot springs\, riverwalks\, live activity\, and holiday festivities. With strong holiday foot traffic from locals and visitors alike\, Park 2 Park provides an excellent opportunity for vendors to showcase their products in a vibrant\, high-energy setting. To become a vendor visit https://pagosachamber.com/park-2-park-artisan-food-market.html
URL:https://southwestcontemporary.com/event/festival-park-2-park-artisan-food-market/2026-07-02/
LOCATION:Town Park Pagosa Springs\, Hermosa St\, Pagosa Springs\, CO\, 81147\, United States
CATEGORIES:Fairs/Festivals,Food + Drink
ATTACH;FMTTYPE=image/jpeg:https://southwestcontemporary.com/wp-content/uploads/2026/02/DSC_0044-scaled-e1770404507217.jpg
ORGANIZER;CN="PagosaSpringsAreaChamberofCommerce":MAILTO:events@pagosachamber.com
GEO:37.2677468;-107.0065662
X-APPLE-STRUCTURED-LOCATION;VALUE=URI;X-ADDRESS=Town Park Pagosa Springs Hermosa St Pagosa Springs CO 81147 United States;X-APPLE-RADIUS=500;X-TITLE=Hermosa St:geo:-107.0065662,37.2677468
END:VEVENT
BEGIN:VEVENT
DTSTART;VALUE=DATE:20260710
DTEND;VALUE=DATE:20260713
DTSTAMP:20260419T100858
CREATED:20260318T180316Z
LAST-MODIFIED:20260409T151904Z
UID:10005584-1783641600-1783900799@southwestcontemporary.com
SUMMARY:Festival: 22nd ANNUAL INTERNATIONAL FOLK ART MARKET
DESCRIPTION:Santa Fe\, New Mexico—The International Folk Art Market (IFAM) announces its 22nd Market with an opening night party on July 9\, running though July 12\, 2026\, in the Railyard Park. The City of Santa Fe welcomes 148 artists from 53 countries for an expansive celebration of folk artists from around the globe\, acting as cultural ambassadors whose creations provide common ground in an increasingly polarized world. \nTo experience IFAM is to be immersed in the colors\, textures\, and symbols of a wide diversity of cultures\, from makers of traditional crafts to eclectic visionaries. Coming from communities spanning rural villages\, big cities\, ancient sites\, and remote corners of the planet\, master artists bring beauty\, ingenuity\, and shared humanity to Santa Fe\, connecting people and transcending divisions. \nEvent Schedule and Tickets:\nThe International Folk Art Market opens with a party on the evening of Thursday\, July 9\, and runs through Sunday\, July 12\, 2026\, in the Santa Fe Railyard. For detailed information and a schedule of events\, visit folkartmarket.org \nTicket prices range from $20 to $300\, with free entry into the Market on Sunday. Visit https://folkartmarket.org/tickets.
URL:https://southwestcontemporary.com/event/festival-22nd-annual-international-folk-art-market/
LOCATION:Santa Fe Railyard Park\, 740 Cerrillos Rd\, Santa Fe\, NM\, 87505\, United States
CATEGORIES:Fairs/Festivals
ATTACH;FMTTYPE=image/jpeg:https://southwestcontemporary.com/wp-content/uploads/2026/03/baskets.jpg
ORGANIZER;CN="International Folk Art Market":MAILTO:diego@folkartmarket.org
GEO:35.6801878;-105.9503957
X-APPLE-STRUCTURED-LOCATION;VALUE=URI;X-ADDRESS=Santa Fe Railyard Park 740 Cerrillos Rd Santa Fe NM 87505 United States;X-APPLE-RADIUS=500;X-TITLE=740 Cerrillos Rd:geo:-105.9503957,35.6801878
END:VEVENT
BEGIN:VEVENT
DTSTART;TZID=America/Denver:20260731T170000
DTEND;TZID=America/Denver:20260802T170000
DTSTAMP:20260419T100858
CREATED:20260211T172427Z
LAST-MODIFIED:20260211T172427Z
UID:10005442-1785517200-1785690000@southwestcontemporary.com
SUMMARY:Festival: 54th Annual Crested Butte Arts
DESCRIPTION:There is no more idyllic backdrop for an outdoor arts event than the historic and highly eclectic mountain community of Crested Butte\, Colorado. With iconic views of the Elk Mountains surrounding the downtown venue\, the “Premier Arts Event in Colorado” attracts a enthusiastic art-buying clientele from across the country. This nationally recognized event invites world-class artisans and 12\,000+ art patrons to mingle across three days of arts celebration. \nThis year’s highlights include: \n– approximately 145 juried fine artists from across the country\n– culinary court hosted by Colorado vendors\n– children’s Art Alley Tent and family activities\n– live music and performances on the Community Entertainment Stage\n– silent auction benefiting our Artistic Enrichment Grant fund. \n2026 Festival Hours: \nFriday\, July 31: 5pm-8pm MT\nSaturday\, August 1: 10am-6pm MT\nSunday\, August 2: 9am-5pm MT
URL:https://southwestcontemporary.com/event/festival-54th-annual-crested-butte-arts/2026-07-31/
LOCATION:Elk Avenue\, Crested Butte\, Elk Avenue\, Crested Butte\, CO\, United States
CATEGORIES:Fairs/Festivals
ATTACH;FMTTYPE=image/jpeg:https://southwestcontemporary.com/wp-content/uploads/2026/02/Elk-Crop2.jpg
GEO:38.8699411;-106.9866892
X-APPLE-STRUCTURED-LOCATION;VALUE=URI;X-ADDRESS=Elk Avenue Crested Butte Elk Avenue Crested Butte CO United States;X-APPLE-RADIUS=500;X-TITLE=Elk Avenue:geo:-106.9866892,38.8699411
END:VEVENT
END:VCALENDAR