BEGIN:VCALENDAR
VERSION:2.0
PRODID:-//Southwest Contemporary - ECPv6.15.13//NONSGML v1.0//EN
CALSCALE:GREGORIAN
METHOD:PUBLISH
X-ORIGINAL-URL:https://southwestcontemporary.com
X-WR-CALDESC:Events for Southwest Contemporary
REFRESH-INTERVAL;VALUE=DURATION:PT1H
X-Robots-Tag:noindex
X-PUBLISHED-TTL:PT1H
BEGIN:VTIMEZONE
TZID:America/Denver
BEGIN:DAYLIGHT
TZOFFSETFROM:-0700
TZOFFSETTO:-0600
TZNAME:MDT
DTSTART:20250309T090000
END:DAYLIGHT
BEGIN:STANDARD
TZOFFSETFROM:-0600
TZOFFSETTO:-0700
TZNAME:MST
DTSTART:20251102T080000
END:STANDARD
BEGIN:DAYLIGHT
TZOFFSETFROM:-0700
TZOFFSETTO:-0600
TZNAME:MDT
DTSTART:20260308T090000
END:DAYLIGHT
BEGIN:STANDARD
TZOFFSETFROM:-0600
TZOFFSETTO:-0700
TZNAME:MST
DTSTART:20261101T080000
END:STANDARD
BEGIN:DAYLIGHT
TZOFFSETFROM:-0700
TZOFFSETTO:-0600
TZNAME:MDT
DTSTART:20270314T090000
END:DAYLIGHT
BEGIN:STANDARD
TZOFFSETFROM:-0600
TZOFFSETTO:-0700
TZNAME:MST
DTSTART:20271107T080000
END:STANDARD
END:VTIMEZONE
BEGIN:VEVENT
DTSTART;TZID=America/Denver:20260328T100000
DTEND;TZID=America/Denver:20260329T160000
DTSTAMP:20260419T114901
CREATED:20260320T153422Z
LAST-MODIFIED:20260320T153422Z
UID:10005611-1774692000-1774800000@southwestcontemporary.com
SUMMARY:Festival: Art in the Garden
DESCRIPTION:Set on our front lawn in our beautiful sculpture garden\, this fun\, two-day event will feature more than 20 Arizona artists selling one-of-a-kind works of art created in glass and ceramic\, plus paintings\, mosaics\, jewelry & more! Attendees will enjoy the colorful display of garden-themed artist tents with bright umbrellas\, live music\, food and beverages\, and a silent auction. FREE ADMISSION!
URL:https://southwestcontemporary.com/event/festival-art-in-the-garden/
LOCATION:Shemer Art Center\, 5005 E Camelback Rd\, Phoenix\, AZ\, 85018\, United States
CATEGORIES:Fairs/Festivals
ATTACH;FMTTYPE=image/jpeg:https://southwestcontemporary.com/wp-content/uploads/2026/03/AITG-Booths.032324.089-copy-scaled-e1774020838868.jpg
GEO:33.504986;-111.9720848
X-APPLE-STRUCTURED-LOCATION;VALUE=URI;X-ADDRESS=Shemer Art Center 5005 E Camelback Rd Phoenix AZ 85018 United States;X-APPLE-RADIUS=500;X-TITLE=5005 E Camelback Rd:geo:-111.9720848,33.504986
END:VEVENT
BEGIN:VEVENT
DTSTART;TZID=America/Denver:20260327T190000
DTEND;TZID=America/Denver:20260328T143000
DTSTAMP:20260419T114901
CREATED:20260306T194807Z
LAST-MODIFIED:20260306T194807Z
UID:10005563-1774638000-1774708200@southwestcontemporary.com
SUMMARY:Film Festival: BLACK CUBE SHORTS
DESCRIPTION:Join Black Cube for a mini film festival celebrating three short films commissioned from three international artists: Julie Béna\, Anna Uddenberg\, and Alejandro Almanza Pereda. This program marks the first time that each of these films will be screened in-person in the Denver area. We’ll be transported from BCHQ to Colorado’s Great Sand Dunes\, controlled art gallery environments in New York and Berlin\, and the historic brickmaking town of Magdalena\, Jalisco. Expect blonde wigs\, adult diapers\, and hands working clay. A Q&A with Cortney Lane Stell\, Black Cube Executive Director + Chief Curator\, will follow each run of show. \nTwo showings: Friday\, 3/27 at 7pm and Saturday\, 3/28 at 1pm. \nRun of show: \n–Dirty Shirley\, 2025. USA/Czech Republic. Directed by Julie Béna. 23 min. Co-produced with PLATO and moloko film. \n–Useless Sacrifice\, 2024. USA/Germany. Directed by Anna Uddenberg and Thyago Sainte. 20 min. \n–De esos polvos estos barros\, 2021. Mexico. Directed by Alejandro Almanza Pereda. 22 min.
URL:https://southwestcontemporary.com/event/film-festival-black-cube-shorts/
LOCATION:Black Cube Headquarters (BCHQ)\, 2925 S Umatilla St\, Englewood\, Colorado\, 80110
CATEGORIES:Fairs/Festivals,Screenings
ATTACH;FMTTYPE=image/jpeg:https://southwestcontemporary.com/wp-content/uploads/2026/03/11_Screenshot-2024-05-21-at-13.01.28-scaled-e1772826467651.jpg
ORGANIZER;CN="Black Cube Nomadic Art Museum":MAILTO:hello@blackcube.art
GEO:39.6631922;-105.0126186
X-APPLE-STRUCTURED-LOCATION;VALUE=URI;X-ADDRESS=Black Cube Headquarters (BCHQ) 2925 S Umatilla St Englewood Colorado 80110;X-APPLE-RADIUS=500;X-TITLE=2925 S Umatilla St:geo:-105.0126186,39.6631922
END:VEVENT
BEGIN:VEVENT
DTSTART;TZID=America/Denver:20260320T100000
DTEND;TZID=America/Denver:20260322T160000
DTSTAMP:20260419T114901
CREATED:20260318T174945Z
LAST-MODIFIED:20260318T174945Z
UID:10005571-1774000800-1774195200@southwestcontemporary.com
SUMMARY:Festival: Three-Day International Folk Art Market  Pop-Up with Ashita Singhal
DESCRIPTION:Three-Day International Folk Art Market Pop-Up Pop-Up with Ashita Singhal. \nThis is the first chance to welcome the popular textile artist Ashita Singhal to Santa Fe! Please come to the pop-up at the IFAM headquarters and bring your questions as we celebrate her as the IFAM 2026 Artist-in-Residence. Singhal’s one-of-a-kind handmade apparel\, textiles\, and small goods will be available to purchase. \nFriday\, March 20\, through Sunday\, March 22\, 10:00–4:00 p.m. \nFree and open to the public
URL:https://southwestcontemporary.com/event/festival-three-day-international-folk-art-market-pop-up-with-ashita-singhal/
LOCATION:620 Cerrillos Road\, Santa Fe\, NM 87505\, 620 Cerrillos Road\, Santa Fe\, 87505
CATEGORIES:Fairs/Festivals,Receptions
ATTACH;FMTTYPE=image/jpeg:https://southwestcontemporary.com/wp-content/uploads/2026/03/Ashita_Singhal1-scaled-e1773856168418.jpg
GEO:35.6810528;-105.9470247
X-APPLE-STRUCTURED-LOCATION;VALUE=URI;X-ADDRESS=620 Cerrillos Road Santa Fe NM 87505 620 Cerrillos Road Santa Fe 87505;X-APPLE-RADIUS=500;X-TITLE=620 Cerrillos Road:geo:-105.9470247,35.6810528
END:VEVENT
BEGIN:VEVENT
DTSTART;TZID=America/Denver:20260313T080000
DTEND;TZID=America/Denver:20260313T170000
DTSTAMP:20260419T114901
CREATED:20260319T155050Z
LAST-MODIFIED:20260319T155050Z
UID:10005591-1773388800-1773421200@southwestcontemporary.com
SUMMARY:Festival: Georgetown Spring Art Stroll
DESCRIPTION:Explore the Georgetown Cultural District with live music\, artist demonstrations\, performances\, history exhibits\, tours\, and shopping! \nThe Arts and Culture Program hosts two semi-annual Art Strolls in the Spring and Autumn where participants can engage in interactive arts experiences at local Arts and Culture facilities across the Downtown Georgetown Cultural District.
URL:https://southwestcontemporary.com/event/festival-georgetown-spring-art-stroll/
LOCATION:Georgetown Art Center\, 816 S Main St\, Georgetown\, TX\, 78626\, United States
CATEGORIES:Fairs/Festivals
ATTACH;FMTTYPE=image/jpeg:https://southwestcontemporary.com/wp-content/uploads/2026/03/Autumn-Art-Stroll_2025_Markus-Lindsey-27-scaled-e1773935407907.jpg
GEO:30.6359263;-97.6772577
X-APPLE-STRUCTURED-LOCATION;VALUE=URI;X-ADDRESS=Georgetown Art Center 816 S Main St Georgetown TX 78626 United States;X-APPLE-RADIUS=500;X-TITLE=816 S Main St:geo:-97.6772577,30.6359263
END:VEVENT
BEGIN:VEVENT
DTSTART;TZID=America/Denver:20260308T110000
DTEND;TZID=America/Denver:20260308T140000
DTSTAMP:20260419T114901
CREATED:20260305T202208Z
LAST-MODIFIED:20260305T202208Z
UID:10005542-1772967600-1772978400@southwestcontemporary.com
SUMMARY:Festival: Pueblo Women's Celebration
DESCRIPTION:As part of National Women’s History Month\, we are celebrating our Pueblo women as we recognize their leadership\, strength\, and courage. \nOn March 8 from 11 AM – 2 PM\, we will be highlighting the accomplishments of women in Pueblo communities with dance performances and guest speakers. \nJoin us to honor the importance of the women in our communities.
URL:https://southwestcontemporary.com/event/festival-pueblo-womens-celebration/
LOCATION:Indian Pueblo Cultural Center\, 2401 12th Street NW\, Albuquerque\, NM\, 87104\, United States
CATEGORIES:Fairs/Festivals
ATTACH;FMTTYPE=image/png:https://southwestcontemporary.com/wp-content/uploads/2026/03/Zuni-olla-maidens-balloon-fiesta.png
GEO:35.1092812;-106.6591118
X-APPLE-STRUCTURED-LOCATION;VALUE=URI;X-ADDRESS=Indian Pueblo Cultural Center 2401 12th Street NW Albuquerque NM 87104 United States;X-APPLE-RADIUS=500;X-TITLE=2401 12th Street NW:geo:-106.6591118,35.1092812
END:VEVENT
BEGIN:VEVENT
DTSTART;TZID=America/Denver:20260215T110000
DTEND;TZID=America/Denver:20260215T160000
DTSTAMP:20260419T114901
CREATED:20260202T164307Z
LAST-MODIFIED:20260202T164307Z
UID:10005326-1771153200-1771171200@southwestcontemporary.com
SUMMARY:Santa Fe Home & Lifestyle Show
DESCRIPTION:FREE ADMISSION! \nThis free event is the perfect opportunity for homeowners to save BIG on all home improvement projects and meet with local and national vendors face to face\, offering valuable insights and guidance to help you turn your vision into reality. \nWhether you’re looking to remodel your kitchen\, revamp your outdoor living space\, or simply make some updates around the house\, The Santa Fe Home and Lifestyle Show has everything you need to get started. \n📍The Santa Fe Home and Lifestyle Show l Santa Fe Community Convention Center\n📆 February 13th-15th\, 2026\n🕰️ Friday: 12pm-6pm | Saturday: 10am-5pm | Sunday: 11am-4pm\nAddress: 201 W Marcy St\, Santa Fe\, NM 87501 \nInterested in exhibiting? Give us a call at 800-201-4663 or visit: https://santafehomelifestyleshow.com/
URL:https://southwestcontemporary.com/event/santa-fe-home-lifestyle-show/2026-02-15/
LOCATION:Santa Fe Community Convention Center\, 201 W Marcy St\, Santa Fe\, NM
CATEGORIES:Fairs/Festivals
ATTACH;FMTTYPE=image/jpeg:https://southwestcontemporary.com/wp-content/uploads/2026/01/https___cdn.evbuc_.com_images_1044210713_209960722498_1_original.jpeg
ORGANIZER;CN="Nationwide Expos":MAILTO:info@nationwideexpos.com
GEO:35.6902905;-105.9393697
X-APPLE-STRUCTURED-LOCATION;VALUE=URI;X-ADDRESS=Santa Fe Community Convention Center 201 W Marcy St Santa Fe NM;X-APPLE-RADIUS=500;X-TITLE=201 W Marcy St:geo:-105.9393697,35.6902905
END:VEVENT
BEGIN:VEVENT
DTSTART;TZID=America/Denver:20260130T180000
DTEND;TZID=America/Denver:20260130T200000
DTSTAMP:20260419T114901
CREATED:20260105T213802Z
LAST-MODIFIED:20260105T213802Z
UID:10005228-1769796000-1769803200@southwestcontemporary.com
SUMMARY:Quick Draw
DESCRIPTION:Join us 6-8 pm for the reinstatement of QuickDraw. Nine artists will be creating works live and you can purchase them for under $100. This event gets you super affordable art on the spot! \nParticipating Artists \nJake Trujillo\nAndrew Taylor\nKat Kinnick\nCaity Kennedy\nDeborah Stein\nKrys Applegate\nDaniel McCoy\nKate Wood\nJulie Sola
URL:https://southwestcontemporary.com/event/quick-draw/
LOCATION:Hecho a Mano\, 129 W. Palace Ave\, Santa Fe\, 87501
CATEGORIES:Fairs/Festivals
ATTACH;FMTTYPE=image/jpeg:https://southwestcontemporary.com/wp-content/uploads/2026/01/Quick-Draw-January-2026-the-SWC.jpg
GEO:35.6884344;-105.9400077
X-APPLE-STRUCTURED-LOCATION;VALUE=URI;X-ADDRESS=Hecho a Mano 129 W. Palace Ave Santa Fe 87501;X-APPLE-RADIUS=500;X-TITLE=129 W. Palace Ave:geo:-105.9400077,35.6884344
END:VEVENT
END:VCALENDAR